BEGIN:VCALENDAR
VERSION:2.0
PRODID:-//ChamberMaster//Event Calendar 2.0//EN
METHOD:PUBLISH
X-PUBLISHED-TTL:P3D
REFRESH-INTERVAL:P3D
CALSCALE:GREGORIAN
BEGIN:VEVENT
DTSTART:20221114T170000Z
DTEND:20221118T055500Z
X-MICROSOFT-CDO-ALLDAYEVENT:FALSE
SUMMARY:100 for $100 - Online Fundraiser for Local Youth and Families
DESCRIPTION:Join us for our annual "100 for $100" fundraiser- online! This is our version of a fast-paced silent auction: we will have 100 items at a "buy it now" price of $100. No more worrying about being outbid at the last second! This fundraiser goes through Thursday\, November 17\, which is Give to the Max Day! When you give-you get! Proceeds from this event support local youth and families through our Counseling\, Intervention\, and Enrichment programs. bidpal.net/100for100
X-ALT-DESC;FMTTYPE=text/html:Join us for our annual &ldquo\;100 for $100&rdquo\; fundraiser- online! This is our version of a fast-paced silent auction: we will have 100 items at a &ldquo\;buy it now&rdquo\; price of $100. No more worrying about being outbid at the last second! This fundraiser goes through Thursday\, November 17\, which is Give to the Max Day! When you give-you get! Proceeds from this event support local youth and families through our Counseling\, Intervention\, and Enrichment programs. <span style="border:none windowtext 1.0pt\;padding:0in\;background:white\;"><span style="color:black\;"><span style="font-family:segoe ui historic\,sans-serif\;"><span style="font-size:11.5pt\;"><a href="https://one.bidpal.net/100for100/welcome">bidpal.net/100for100</a></span></span></span></span><br />\n&nbsp\;<br />\n&nbsp\;
LOCATION:Online!
UID:e.3575.5329
SEQUENCE:3
DTSTAMP:20260422T202132Z
URL:https://business.chisagolakeschamber.com/events/details/100-for-100-online-fundraiser-for-local-youth-and-families-5329
END:VEVENT

END:VCALENDAR
