BEGIN:VCALENDAR
VERSION:2.0
PRODID:-//ChamberMaster//Event Calendar 2.0//EN
METHOD:PUBLISH
X-PUBLISHED-TTL:P3D
REFRESH-INTERVAL:P3D
CALSCALE:GREGORIAN
BEGIN:VEVENT
DTSTART:20221027T220000Z
DTEND:20221028T013000Z
X-MICROSOFT-CDO-ALLDAYEVENT:FALSE
SUMMARY:2022 Celebrate Rise Gala
DESCRIPTION:You're invited to join people served by Rise\, partners\, and supporters for our Celebrate Rise Annual Fundraising Gala on Thursday\, October 27th 2022. TICKETS ON SALE NOW. Ticket Page: https://one.bidpal.net/celebraterise2022. Our evening will be hosted by Nancy Lyons from Clockwork\, with dinner\, a moving program and testimonials\, social hour\, games and more!\n\nMore info: https://rise.org/event/2022gala/
X-ALT-DESC;FMTTYPE=text/html:<p><span style="color:#2A2B37\; font-family:lato\,sans-serif\; font-size:13.5pt">You&rsquo\;re invited to join people served by Rise\, partners\, and supporters for our Celebrate Rise Annual Fundraising Gala on Thursday\, October 27th 2022. TICKETS ON SALE NOW.&nbsp\;Ticket Page: </span><span style="color:black\; font-family:lato\,sans-serif\; font-size:13.5pt"><a href="https://one.bidpal.net/celebraterise2022">https://one.bidpal.net/celebraterise2022</a></span><span style="color:black">. </span><span style="color:#2A2B37\; font-family:lato\,sans-serif\; font-size:13.5pt">Our evening will be hosted by Nancy Lyons from Clockwork\, with dinner\, a moving program and testimonials\, social hour\, games and more!</span></p>\n\n<p><span style="color:#2A2B37\; font-family:lato\,sans-serif\; font-size:13.5pt">More info: <a href="https://rise.org/event/2022gala/">https://rise.org/event/2022gala/</a> </span></p>\n
LOCATION:Minneapolis Marriott Northwest (7025 Northland Drive North\, Brooklyn Park\, MN 55428)
UID:e.3575.4897
SEQUENCE:3
DTSTAMP:20260422T215245Z
URL:https://business.chisagolakeschamber.com/events/details/2022-celebrate-rise-gala-4897
END:VEVENT

END:VCALENDAR
