BEGIN:VCALENDAR
VERSION:2.0
PRODID:-//ChamberMaster//Event Calendar 2.0//EN
METHOD:PUBLISH
X-PUBLISHED-TTL:P3D
REFRESH-INTERVAL:P3D
CALSCALE:GREGORIAN
BEGIN:VEVENT
DTSTART:20221021T150000Z
DTEND:20221021T183000Z
X-MICROSOFT-CDO-ALLDAYEVENT:FALSE
SUMMARY:2022 Chisago Age Well Expo
DESCRIPTION:2022 Chisago Age Well Expo\n\n"Discover the Hidden Treasures in your Backyard"\n\nResources and Information to provide older adults and their caregivers opportunities to live and age well in Chisago County.\n\n \n\n\n	Keynote Speaker: Author of "Da Fishi Code" Dan Brown at Noon\n	Vendors\n	Vaccine Clinic\n	Health Screenings\n	Free Stuff!
X-ALT-DESC;FMTTYPE=text/html:<p>2022 Chisago Age Well Expo</p>\n\n<p>&quot\;Discover the Hidden Treasures in your Backyard&quot\;<br />\nResources and Information to provide older adults and their caregivers opportunities to live and age well in Chisago County.<br />\n&nbsp\;</p>\n\n<ul>\n	<li>Keynote Speaker: Author of &quot\;Da Fishi Code&quot\; Dan Brown at Noon</li>\n	<li>Vendors</li>\n	<li>Vaccine Clinic</li>\n	<li>Health Screenings</li>\n	<li>Free Stuff!</li>\n</ul>\n
LOCATION:Chisago Lakes High School Performing Arts Center (PAC) 29330 Olinda Trail Lindstrom\, MN 55045
UID:e.3575.4886
SEQUENCE:3
DTSTAMP:20260422T215306Z
URL:https://business.chisagolakeschamber.com/events/details/2022-chisago-age-well-expo-4886
END:VEVENT

END:VCALENDAR
