BEGIN:VCALENDAR
VERSION:2.0
PRODID:-//ChamberMaster//Event Calendar 2.0//EN
METHOD:PUBLISH
X-PUBLISHED-TTL:P3D
REFRESH-INTERVAL:P3D
CALSCALE:GREGORIAN
BEGIN:VEVENT
DTSTART;VALUE=DATE:20230730
DTEND;VALUE=DATE:20230731
TRANSP:TRANSPARENT
X-MICROSOFT-CDO-ALLDAYEVENT:TRUE
SUMMARY:2023 Chisago Lakes Triathlon
DESCRIPTION:The Chisago Lakes Triathlon features the friendly Swedish communities of the Chisago Lakes Area. Paradise Park offers an eagle eye's view of the swim course.\n\nThe swim is at beautiful Paradise Park at Chisago Lake in Chisago City. Plenty of buoys will be available to rest if needed.\n\nThe bike course has few rollers and is mainly flat. The run goes through charming residential streets with community support and several water stations.\n\nRun courses follow residential roads. Roads are well kept and flat.\n\nParticipants receive a finisher medal\, swim cap\, age group awards\, food and fun after the event\n\nDISTANCE\n\nSprint: 1/4 mile swim\, 15 mile bike\, 3.1 mile run\n\nOlympic: .75 mile swim\, 25 mile bike\, 6.2 mile run\n\n\n\nHalf: 1.2 mile swim\, 56 mile bike\, 13 mile run\n\n\n\nHalf Swim cut off 70 minutes\n\nHalf Bike cut off 3 hours 40 minutes\n\nHalf Run cut off 3 hours\n\nCut off times begin at the start of your wave.
X-ALT-DESC;FMTTYPE=text/html:<p style="padding: 0px\; margin: 0px 0px 1rem\; overflow-wrap: break-word\; box-sizing: inherit\; font-size: 16px\; color: rgb(102\, 102\, 102)\; font-family: Lato\, sans-serif\; background-color: rgb(255\, 255\, 255)\;"><span style="font-size:16px\;">The Chisago Lakes Triathlon features the friendly Swedish communities of the Chisago Lakes Area. Paradise Park offers an eagle eye&rsquo\;s view of the swim course.</span></p>\n\n<p style="padding: 0px\; margin: 0px 0px 1rem\; overflow-wrap: break-word\; box-sizing: inherit\; font-size: 16px\; color: rgb(102\, 102\, 102)\; font-family: Lato\, sans-serif\; background-color: rgb(255\, 255\, 255)\;"><span style="font-size:16px\;">The swim is at beautiful Paradise Park at Chisago Lake in Chisago City. Plenty of buoys will be available to rest if needed.</span></p>\n\n<p style="padding: 0px\; margin: 0px 0px 1rem\; overflow-wrap: break-word\; box-sizing: inherit\; font-size: 16px\; color: rgb(102\, 102\, 102)\; font-family: Lato\, sans-serif\; background-color: rgb(255\, 255\, 255)\;"><span style="font-size:16px\;">The bike course has few rollers and is mainly flat. The run goes through charming residential streets with community support and several water stations.</span></p>\n\n<p style="padding: 0px\; margin: 0px 0px 1rem\; overflow-wrap: break-word\; box-sizing: inherit\; font-size: 16px\; color: rgb(102\, 102\, 102)\; font-family: Lato\, sans-serif\; background-color: rgb(255\, 255\, 255)\;"><span style="font-size:16px\;">Run courses follow residential roads. Roads are well kept and flat.</span></p>\n\n<p style="padding: 0px\; margin: 0px 0px 1rem\; overflow-wrap: break-word\; box-sizing: inherit\; font-size: 16px\; color: rgb(102\, 102\, 102)\; font-family: Lato\, sans-serif\; background-color: rgb(255\, 255\, 255)\;"><span style="font-size:16px\;">Participants receive a finisher medal\,&nbsp\;swim cap\, age group awards\, food and fun after the event</span></p>\n\n<p style="padding: 0px\; margin: 0px 0px 1rem\; overflow-wrap: break-word\; box-sizing: inherit\; font-size: 16px\; color: rgb(102\, 102\, 102)\; font-family: Lato\, sans-serif\; background-color: rgb(255\, 255\, 255)\;"><span style="font-size:16px\;">DISTANCE<br style="padding: 0px\; margin: 0px\; overflow-wrap: break-word\; box-sizing: inherit\;" />\nSprint: 1/4 mile swim\, 15&nbsp\;mile bike\, 3.1 mile run</span></p>\n\n<p style="padding: 0px\; margin: 0px\; overflow-wrap: break-word\; box-sizing: inherit\; font-size: 16px\; color: rgb(102\, 102\, 102)\; font-family: Lato\, sans-serif\; background-color: rgb(255\, 255\, 255)\;"><span style="font-size:16px\;">Olympic: .75&nbsp\;mile swim\, 25&nbsp\;mile bike\, 6.2&nbsp\;mile run<br style="padding: 0px\; margin: 0px\; overflow-wrap: break-word\; box-sizing: inherit\;" />\n<br style="padding: 0px\; margin: 0px\; overflow-wrap: break-word\; box-sizing: inherit\;" />\nHalf: 1.2 mile swim\, 56 mile bike\, 13 mile run<br style="padding: 0px\; margin: 0px\; overflow-wrap: break-word\; box-sizing: inherit\;" />\n<br style="padding: 0px\; margin: 0px\; overflow-wrap: break-word\; box-sizing: inherit\;" />\nHalf Swim cut off 70 minutes<br style="padding: 0px\; margin: 0px\; overflow-wrap: break-word\; box-sizing: inherit\;" />\nHalf Bike cut off 3 hours 40 minutes<br style="padding: 0px\; margin: 0px\; overflow-wrap: break-word\; box-sizing: inherit\;" />\nHalf Run cut off 3 hours<br style="padding: 0px\; margin: 0px\; overflow-wrap: break-word\; box-sizing: inherit\;" />\nCut off times begin at the start of your wave.</span></p>\n
LOCATION:Paradise Park 11031 Stinson Ave Chisago City\, MN 55013
UID:e.3575.5531
SEQUENCE:3
DTSTAMP:20260422T115719Z
URL:https://business.chisagolakeschamber.com/events/details/2023-chisago-lakes-triathlon-5531
END:VEVENT

END:VCALENDAR
