BEGIN:VCALENDAR
VERSION:2.0
PRODID:-//ChamberMaster//Event Calendar 2.0//EN
METHOD:PUBLISH
X-PUBLISHED-TTL:P3D
REFRESH-INTERVAL:P3D
CALSCALE:GREGORIAN
BEGIN:VEVENT
DTSTART;VALUE=DATE:20230225
DTEND;VALUE=DATE:20230227
TRANSP:TRANSPARENT
X-MICROSOFT-CDO-ALLDAYEVENT:TRUE
SUMMARY:2023 Home & Business Expo
DESCRIPTION:Join us for our 2023 Home & Business Expo
X-ALT-DESC;FMTTYPE=text/html:Join us for our 2023 Home &amp\; Business Expo
LOCATION:Wildcat Community Center 29330 Olinda Trail Lindstrom\, MN 55045
UID:e.3575.3040
SEQUENCE:3
DTSTAMP:20260422T161253Z
URL:https://business.chisagolakeschamber.com/events/details/2023-home-business-expo-3040
END:VEVENT

END:VCALENDAR
