BEGIN:VCALENDAR
VERSION:2.0
PRODID:-//ChamberMaster//Event Calendar 2.0//EN
METHOD:PUBLISH
X-PUBLISHED-TTL:P3D
REFRESH-INTERVAL:P3D
CALSCALE:GREGORIAN
BEGIN:VEVENT
DTSTART:20220422T163000Z
DTEND:20220422T183000Z
X-MICROSOFT-CDO-ALLDAYEVENT:FALSE
SUMMARY:2nd Annual Earth Day Cleanup
DESCRIPTION:Join the Chisago Lakes Rotary Club\, Chisago County Sheriff's Office and the Lakes Area Police Department to help clean up our beautiful community. In honor of Earth Day 2022\, we will be picking up trash along Olinda Trail.\n\nTrash bags\, reflective vests and gloves will be provided.
X-ALT-DESC;FMTTYPE=text/html:Join the Chisago Lakes Rotary Club\, Chisago County Sheriff&#39\;s Office and the Lakes Area Police Department to help clean up our beautiful community. In honor of Earth Day 2022\, we will be picking up trash along Olinda Trail.<br />\nTrash bags\, reflective vests and gloves will be provided.
LOCATION:Meet and park at: St. Bridget of Sweden Catholic Church 13060 Lake Blvd Lindstrom\, MN 55045
UID:e.3575.3408
SEQUENCE:3
DTSTAMP:20260421T110006Z
URL:https://business.chisagolakeschamber.com/events/details/2nd-annual-earth-day-cleanup-3408
END:VEVENT

END:VCALENDAR
