BEGIN:VCALENDAR
VERSION:2.0
PRODID:-//ChamberMaster//Event Calendar 2.0//EN
METHOD:PUBLISH
X-PUBLISHED-TTL:P3D
REFRESH-INTERVAL:P3D
CALSCALE:GREGORIAN
BEGIN:VEVENT
DTSTART:20221225T180000Z
DTEND:20221225T191500Z
X-MICROSOFT-CDO-ALLDAYEVENT:FALSE
SUMMARY:32nd Annual Community Christmas Dinner
DESCRIPTION:32nd Annual Community Christmas Dinner\n\nThe meal is FREE but reservations are requested by Wednesday\, December 14th. Please call 651-257-4306 to reserve a seat\; leave a message\, if after hours\, with your name and number of people attending. If it's not possible for you to attend\, please call and a meal will be delivered to you.\n\n\n\nIf you'd like to help serve the meal or donate food\, please call First United Methodist Church at 651-257-4306 no later than December 16th.
X-ALT-DESC;FMTTYPE=text/html:<p><strong>32nd Annual Community Christmas Dinner</strong></p>\n\n<p>The meal is FREE but reservations are requested by Wednesday\, December 14th. Please call 651-257-4306 to reserve a seat\; leave a message\, if after hours\, with your name and number of people attending. If it&#39\;s not possible for you to attend\, please call and a meal will be delivered to you.<br />\n<br />\nIf you&#39\;d like to help serve the meal or donate food\, please call First United Methodist Church at 651-257-4306 no later than December 16th.</p>\n
LOCATION:First United Methodist Church 30828 Irene Avenue Lindstrom\, MN (2 blocks north of the Middle School)
UID:e.3575.5346
SEQUENCE:3
DTSTAMP:20260422T191202Z
URL:https://business.chisagolakeschamber.com/events/details/32nd-annual-community-christmas-dinner-5346
END:VEVENT

END:VCALENDAR
