BEGIN:VCALENDAR
VERSION:2.0
PRODID:-//ChamberMaster//Event Calendar 2.0//EN
METHOD:PUBLISH
X-PUBLISHED-TTL:P3D
REFRESH-INTERVAL:P3D
CALSCALE:GREGORIAN
BEGIN:VEVENT
DTSTART:20221015T200000Z
DTEND:20221016T030000Z
X-MICROSOFT-CDO-ALLDAYEVENT:FALSE
SUMMARY:3rd Annual Franks'N'Steins Fundraiser
DESCRIPTION:3rd Annual Franks'N'Steins Fundraiser with Food\, Live Music\, Drinks & a Silent Auction\n\n\n\nProceeds from the Silent Auction will be donated to Chisago Lakes Beyond the Yellow Ribbon
X-ALT-DESC;FMTTYPE=text/html:3rd Annual Franks&#39\;N&#39\;Steins Fundraiser with Food\, Live Music\, Drinks &amp\; a Silent Auction<br />\n<br />\nProceeds from the Silent Auction will be donated to Chisago Lakes Beyond the Yellow Ribbon
LOCATION:Uncommon Loon Brewing Company Chisago City\, MN 55013
UID:e.3575.5110
SEQUENCE:3
DTSTAMP:20260422T215144Z
URL:https://business.chisagolakeschamber.com/events/details/3rd-annual-franks-n-steins-fundraiser-5110
END:VEVENT

END:VCALENDAR
