BEGIN:VCALENDAR
VERSION:2.0
PRODID:-//ChamberMaster//Event Calendar 2.0//EN
METHOD:PUBLISH
X-PUBLISHED-TTL:P3D
REFRESH-INTERVAL:P3D
CALSCALE:GREGORIAN
BEGIN:VEVENT
DTSTART;VALUE=DATE:20221001
DTEND;VALUE=DATE:20221002
TRANSP:TRANSPARENT
X-MICROSOFT-CDO-ALLDAYEVENT:TRUE
SUMMARY:5K Highway to Help
DESCRIPTION:Welcome to Highway to Help 5K. Highway to Help 5K was founded in partnership with Bill's Wish in 2020 in Minnesota. You're invited to run or walk the route in support of veterans and their families affected by mental illness and chemical dependency. Please join us on October 1\, 2022 to help us ensure they receive the services that they need and deserve. When you register for our walk/run you will receive a free shirt and a race bib. This 5K event will include music\, food\, raffles\, drawings\, a silent auction and more. Check in will start at 8AM the race starts at 10AM.\n\nWe look forward to seeing you and thank you for your support!
X-ALT-DESC;FMTTYPE=text/html:<div class="m8h3af8h l7ghb35v kjdc1dyq kmwttqpk gh25dzvf" style="overflow-wrap: break-word\; margin: 0px\; font-family: &quot\;Segoe UI Historic&quot\;\, &quot\;Segoe UI&quot\;\, Helvetica\, Arial\, sans-serif\; color: rgb(5\, 5\, 5)\; font-size: 15px\;">Welcome to Highway to Help 5K. Highway to Help 5K was founded in partnership with Bill&rsquo\;s Wish in 2020 in Minnesota. You&rsquo\;re invited to run or walk the route in support of veterans and their families affected by mental illness and chemical dependency. Please join us on October 1\, 2022 to help us ensure they receive the services that they need and deserve. When you register for our walk/run you will receive a free shirt and a race bib. This 5K event will include music\, food\, raffles\, drawings\, a silent auction and more. Check in will start at 8AM the race starts at 10AM.</div>\n\n<div class="l7ghb35v kjdc1dyq kmwttqpk gh25dzvf jikcssrz" style="overflow-wrap: break-word\; margin: 0.5em 0px 0px\; font-family: &quot\;Segoe UI Historic&quot\;\, &quot\;Segoe UI&quot\;\, Helvetica\, Arial\, sans-serif\; color: rgb(5\, 5\, 5)\; font-size: 15px\;">We look forward to seeing you and thank you for your support!</div>\n
LOCATION:Vilhelm Moberg Park 10656 Railroad Ave Chisago City\, MN 55013
UID:e.3575.5103
SEQUENCE:3
DTSTAMP:20260422T215112Z
URL:https://business.chisagolakeschamber.com/events/details/5k-highway-to-help-5103
END:VEVENT

END:VCALENDAR
