BEGIN:VCALENDAR
VERSION:2.0
PRODID:-//ChamberMaster//Event Calendar 2.0//EN
METHOD:PUBLISH
X-PUBLISHED-TTL:P3D
REFRESH-INTERVAL:P3D
CALSCALE:GREGORIAN
BEGIN:VEVENT
DTSTART:20220925T143000Z
DTEND:20220925T170000Z
X-MICROSOFT-CDO-ALLDAYEVENT:FALSE
SUMMARY:5th Annual Tortoise and The Hair Alopecia 5K - 1 Mile Fun Run
DESCRIPTION:5th Annual Tortoise and the Hair Alopecia 5K - 1 Mile Run Run\n\nJoin us for a family fun 5K & 1 mile fun run at Paradise Park in Chisago City.\n\nEvent includes a Silent Auction\, Face Painting\, Music\, Food Truck & Fun
X-ALT-DESC;FMTTYPE=text/html:<strong>5th Annual Tortoise and the Hair Alopecia 5K - 1 Mile Run Run</strong><br />\nJoin us for a family fun 5K &amp\; 1 mile fun run at Paradise Park in Chisago City.<br />\nEvent includes a Silent Auction\, Face Painting\, Music\, Food Truck &amp\; Fun
LOCATION:Paradise Park 11031 Stinson Avenue Chisago City\, MN 55013
UID:e.3575.4906
SEQUENCE:3
DTSTAMP:20260423T021633Z
URL:https://business.chisagolakeschamber.com/events/details/5th-annual-tortoise-and-the-hair-alopecia-5k-1-mile-fun-run-4906
END:VEVENT

END:VCALENDAR
