BEGIN:VCALENDAR
VERSION:2.0
PRODID:-//ChamberMaster//Event Calendar 2.0//EN
METHOD:PUBLISH
X-PUBLISHED-TTL:P3D
REFRESH-INTERVAL:P3D
CALSCALE:GREGORIAN
BEGIN:VEVENT
DTSTART:20220322T230000Z
DTEND:20220323T010000Z
X-MICROSOFT-CDO-ALLDAYEVENT:FALSE
SUMMARY:A Conversation on the Rural Narrative
DESCRIPTION:Ben Winchester joins us from the University of Minnesota Extension Program. He has dedicated his career to amplifying rural Minnesota and the upper Midwest. Combining his expertise in sociology and data analysis\, he has made groundbreaking discoveries for supporting rural communities while building sustainable vitality.\n\nThe story of rural America since 1970 is rich and diverse\, with positive trends occurring under the radar. Learn how positive changes around migration\, community involvement\, economic development\, and regional living have diversified this landscape that require us to rewrite the narrative of rural community change. Join us for an evening of listening\, learning\, and community involvement.
X-ALT-DESC;FMTTYPE=text/html:<p style="margin: 0px\; padding: 0px\; color: rgb(111\, 114\, 135)\; font-size: 16px\; line-height: 1.5rem\; font-family: &quot\;Neue Plak&quot\;\, -apple-system\, BlinkMacSystemFont\, Roboto\, &quot\;Helvetica Neue&quot\;\, Helvetica\, Tahoma\, Arial\, sans-serif\; letter-spacing: 0.5px\;">Ben Winchester joins us from the University of Minnesota Extension Program. He has dedicated his career to amplifying rural Minnesota and the upper Midwest. Combining his expertise in sociology and data analysis\, he has made groundbreaking discoveries for supporting rural communities while building sustainable vitality.</p>\n\n<p style="margin: 0px\; padding: 10px 0px 0px\; color: rgb(111\, 114\, 135)\; font-size: 16px\; line-height: 1.5rem\; font-family: &quot\;Neue Plak&quot\;\, -apple-system\, BlinkMacSystemFont\, Roboto\, &quot\;Helvetica Neue&quot\;\, Helvetica\, Tahoma\, Arial\, sans-serif\; letter-spacing: 0.5px\;">The story of rural America since 1970 is rich and diverse\, with positive trends occurring under the radar. Learn how positive changes around migration\, community involvement\, economic development\, and regional living have diversified this landscape that require us to rewrite the narrative of rural community change. Join us for an evening of listening\, learning\, and community involvement.</p>\n
LOCATION:Chisago Lakes High School - Auditorium (Door 33) 29400 Olinda Trail Lindstrom\, MN 55045
UID:e.3575.3210
SEQUENCE:3
DTSTAMP:20260421T094418Z
URL:https://business.chisagolakeschamber.com/events/details/a-conversation-on-the-rural-narrative-3210
END:VEVENT

END:VCALENDAR
