BEGIN:VCALENDAR
VERSION:2.0
PRODID:-//ChamberMaster//Event Calendar 2.0//EN
METHOD:PUBLISH
X-PUBLISHED-TTL:P3D
REFRESH-INTERVAL:P3D
CALSCALE:GREGORIAN
BEGIN:VEVENT
DTSTART:20220616T220000Z
DTEND:20220617T000000Z
X-MICROSOFT-CDO-ALLDAYEVENT:FALSE
SUMMARY:Acrylic Painting 101 - Pallet Knife Landscapes at Gladje
DESCRIPTION:Acrylic Painting 101 - Pallet Knife Landscapes\n\nJoin us for an exploration in a pallet knife painting in Acrylics!\n\n\n\nNo experience necessary\, come and learn pressure free!
X-ALT-DESC;FMTTYPE=text/html:<p><span style="font-size:14px\;"><em><strong>Acrylic Painting 101 - Pallet Knife Landscapes</strong></em><br />\nJoin us for an exploration in a pallet knife painting in Acrylics!<br />\n<br />\n<span style="color: rgb(32\, 32\, 32)\; font-family: futura-lt-w01-light\, futura-lt-w05-light\, sans-serif\;">No experience necessary\, come and learn pressure free!</span></span></p>\n
LOCATION:Gladje Gallery 13025 Lake Boulevard Lindstrom\, MN 55045
UID:e.3575.4675
SEQUENCE:3
DTSTAMP:20260423T032150Z
URL:https://business.chisagolakeschamber.com/events/details/acrylic-painting-101-pallet-knife-landscapes-at-gladje-4675
END:VEVENT

END:VCALENDAR
