BEGIN:VCALENDAR
VERSION:2.0
PRODID:-//ChamberMaster//Event Calendar 2.0//EN
METHOD:PUBLISH
X-PUBLISHED-TTL:P3D
REFRESH-INTERVAL:P3D
CALSCALE:GREGORIAN
BEGIN:VEVENT
DTSTART:20220526T220000Z
DTEND:20220527T000000Z
X-MICROSOFT-CDO-ALLDAYEVENT:FALSE
SUMMARY:Acrylic Painting 101 - Sunset Reflections at Gladje
DESCRIPTION:Acrylic Painting 101 - Sunset Reflections\n\nJoin us this week for a workshop in vibrant acrylic paints!\n\nIn this 2-hour painting class\, we'll capture the beauty of the sunset in acrylic paint. We'll learn to mix and blend colors to create a breathtaking rendition of our sky over the water. Bring a photo you love\, or paint along with the artist! No experience necessary\, come and learn something brand-new\, expand your creative toolbox\, or reconnect with a lost love for art!
X-ALT-DESC;FMTTYPE=text/html:<p><span style="font-size:14px\;"><em><strong>Acrylic Painting 101 - Sunset Reflections</strong></em><br />\nJoin us this week for a workshop in vibrant acrylic paints!</span></p>\n\n<p><span style="font-size:14px\;"><span style="color: rgb(32\, 32\, 32)\; font-family: futura-lt-w01-light\, futura-lt-w05-light\, sans-serif\;">In this 2-hour painting class\, we&#39\;ll capture the beauty of the sunset in acrylic paint. We&#39\;ll learn to mix and blend colors to create a breathtaking rendition of our sky over the water. Bring a photo you love\, or paint along with the artist! No experience necessary\, come and learn something brand-new\, expand your creative toolbox\, or reconnect with a lost love for art!</span></span></p>\n
LOCATION:Gladje Gallery 13025 Lake Boulevard Lindstrom\, MN 55045
UID:e.3575.4279
SEQUENCE:3
DTSTAMP:20260421T115856Z
URL:https://business.chisagolakeschamber.com/events/details/acrylic-painting-101-sunset-reflections-at-gladje-4279
END:VEVENT

END:VCALENDAR
