BEGIN:VCALENDAR
VERSION:2.0
PRODID:-//ChamberMaster//Event Calendar 2.0//EN
METHOD:PUBLISH
X-PUBLISHED-TTL:P3D
REFRESH-INTERVAL:P3D
CALSCALE:GREGORIAN
BEGIN:VEVENT
DTSTART:20251218T180000Z
DTEND:20260131T180000Z
X-MICROSOFT-CDO-ALLDAYEVENT:FALSE
SUMMARY:After the Holiday Bliss Event
DESCRIPTION:Agenda:   5 pm 6 pm: Registration and Appetizer Reception   6 pm 7 pm: Dinner and Prize Drawing   7 pm 8 pm: Entertainment by Jared Sherlock All Guests Will Recieve:   Appetizer Reception   Three-Course Meal   Entertainment   Entry into Prize Drawing   Special Hotel Rate (Call 1-800-468-3517 and mention offer code: AH0131H)   $109 Queen Room   $119 King Room Cost:   $400 plus tax per table of eight. Sales tax is 6.875%   Contact Grand Casino Hinckley at 320-375-0844 to finalize payment   No payments will be accepted at the door. Reservations required   Cut-off date to book and final payment due by Monday\, January 19\, 2026   Cancellation policy: Cancellations after January 19\, 2026\, are non-refundable
X-ALT-DESC;FMTTYPE=text/html:Agenda: &bull\; 5 pm&ndash\;6 pm: Registration and Appetizer Reception &bull\; 6 pm&ndash\;7 pm: Dinner and Prize Drawing &bull\; 7 pm&ndash\;8 pm: Entertainment by Jared Sherlock All Guests Will Recieve: &bull\; Appetizer Reception &bull\; Three-Course Meal &bull\; Entertainment &bull\; Entry into Prize Drawing &bull\; Special Hotel Rate (Call 1-800-468-3517 and mention offer code: AH0131H) &bull\; $109 Queen Room &bull\; $119 King Room Cost: &bull\; $400 plus tax per table of eight. Sales tax is 6.875% &bull\; Contact Grand Casino Hinckley at 320-375-0844 to finalize payment &bull\; No payments will be accepted at the door. Reservations required &bull\; Cut-off date to book and final payment due by Monday\, January 19\, 2026 &bull\; Cancellation policy: Cancellations after January 19\, 2026\, are non-refundable
LOCATION:Grand Casino Hinckley Event Center
UID:e.3575.9110
SEQUENCE:3
DTSTAMP:20260422T092914Z
URL:https://business.chisagolakeschamber.com/events/details/after-the-holiday-bliss-event-9110
END:VEVENT

END:VCALENDAR
