BEGIN:VCALENDAR
VERSION:2.0
PRODID:-//ChamberMaster//Event Calendar 2.0//EN
METHOD:PUBLISH
X-PUBLISHED-TTL:P3D
REFRESH-INTERVAL:P3D
CALSCALE:GREGORIAN
BEGIN:VEVENT
DTSTART:20220425T150000Z
DTEND:20220425T210000Z
X-MICROSOFT-CDO-ALLDAYEVENT:FALSE
SUMMARY:American Red Cross Blood Drive
DESCRIPTION:The Red Cross will be at Lakes Free Church to receive blood donations.  Appointment is required\, register online or call 1-800-RED-CROSS.
X-ALT-DESC;FMTTYPE=text/html:The Red Cross will be at Lakes Free Church to receive blood donations.&nbsp\; Appointment is required\, register <a href="https://www.redcrossblood.org/give.html/drive-results?order=DATE&amp\;range=10&amp\;zipSponsor=55013">online</a> or call 1-800-RED-CROSS.
LOCATION:29260 Olinda Trail Lindstrom\, MN 55045
UID:e.3575.3069
SEQUENCE:3
DTSTAMP:20260421T115856Z
URL:https://business.chisagolakeschamber.com/events/details/american-red-cross-blood-drive-3069
END:VEVENT

END:VCALENDAR
