BEGIN:VCALENDAR
VERSION:2.0
PRODID:-//ChamberMaster//Event Calendar 2.0//EN
METHOD:PUBLISH
X-PUBLISHED-TTL:P3D
REFRESH-INTERVAL:P3D
CALSCALE:GREGORIAN
BEGIN:VEVENT
DTSTART:20200125T180000Z
DTEND:20200126T010000Z
X-MICROSOFT-CDO-ALLDAYEVENT:FALSE
SUMMARY:Anderson's Ice Cream Shoppe 1 year Anniversary Celebration
DESCRIPTION:Join us as we celebrate our 1st anniversary. Promotions and giveaways will be available during the day. 651-401-5394
X-ALT-DESC;FMTTYPE=text/html:Join us as we celebrate our 1st anniversary. Promotions and giveaways will be available during the day. 651-401-5394&nbsp\;
LOCATION:12710 Lake Blvd Lindstrom\, MN 55045
UID:e.3575.3
SEQUENCE:3
DTSTAMP:20260424T162915Z
URL:https://business.chisagolakeschamber.com/events/details/anderson-s-ice-cream-shoppe-1-year-anniversary-celebration-01-25-2020-3
END:VEVENT

END:VCALENDAR
