BEGIN:VCALENDAR
VERSION:2.0
PRODID:-//ChamberMaster//Event Calendar 2.0//EN
METHOD:PUBLISH
X-PUBLISHED-TTL:P3D
REFRESH-INTERVAL:P3D
CALSCALE:GREGORIAN
BEGIN:VEVENT
DTSTART:20210814T210000Z
DTEND:20210815T010000Z
X-MICROSOFT-CDO-ALLDAYEVENT:FALSE
SUMMARY:Annual Art Gala
DESCRIPTION:Join us for our Annual Art Gala! Enjoy food\, wine and music while viewing artwork from over 50 local Minnesota and Wisconsin artists. Meet some of the artists while you're here! After a year of reflection and conversations with our customers\, we have decided to rebrand our gallery to better fit our mission. Be among the first to see our NEW name and logo! Ribbon cutting and unveiling of our new brand will take place at 5 PM. Enjoy a musical performance by musicians from both Finn Hall and Laulu Aika bands.
X-ALT-DESC;FMTTYPE=text/html:Join us for our Annual Art Gala! Enjoy food\, wine and music while viewing artwork from over 50 local Minnesota and Wisconsin artists. Meet some of the artists while you&#39\;re here! After a year of reflection and conversations with our customers\, we have decided to rebrand our gallery to better fit our mission. Be among the first to see our NEW name and logo! Ribbon cutting and unveiling of our new brand will take place at 5 PM. Enjoy a musical performance by musicians from both Finn Hall and Laulu Aika bands.
LOCATION:Gustaf's Up North Gallery 13025 Lake Blvd\, Lindstrom\, MN 55045
UID:e.3575.1708
SEQUENCE:3
DTSTAMP:20260421T083300Z
URL:https://business.chisagolakeschamber.com/events/details/annual-art-gala-1708
END:VEVENT

END:VCALENDAR
