BEGIN:VCALENDAR
VERSION:2.0
PRODID:-//ChamberMaster//Event Calendar 2.0//EN
METHOD:PUBLISH
X-PUBLISHED-TTL:P3D
REFRESH-INTERVAL:P3D
CALSCALE:GREGORIAN
BEGIN:VEVENT
DTSTART:20220514T220000Z
DTEND:20220515T010000Z
X-MICROSOFT-CDO-ALLDAYEVENT:FALSE
SUMMARY:Annual Spring Art Gala
DESCRIPTION:Jana K. Lensing and her team at Gl dje proudly present the Annual Spring Art Gala\, a tradition that the art gallery has upheld for well over a decade. The Annual Spring Art Gala will feature live music by folk artists Jolene and Dan\, and appearances by many of the 63 local artists represented by Gl dje. To honor the Swedish history of Lindstrom and the gallery itself\, Gl dje will be offering refreshments inspired by Fika   coffee with dessert.\n\n\n\nThe purpose of the Annual Spring Art Gala is to celebrate beautiful works of art by local artists\, and to celebrate the arrival of spring with the community and supporters. The 3-hour event is free to the public\, but attendees are encouraged to RSVP online at www.gladjegallery.com.\n\n\n\nWhen asked about the event\, Lensing said\, "I am grateful to have this incredibly large space filled with inspirational work by over 60 local artists. Art is for everyone\, and we at Gl dje are humbled and delighted to create unique displays showcasing each artist to share with the community. A sustainable part of any community is lifelong learning.  My desire is to help our community learn how to play again\, try exploring different art disciplines\, and learn how to use mediums\, tools and the process of art-making fun.
X-ALT-DESC;FMTTYPE=text/html:<span style="font-family:open sans\,sans-serif">Jana K. Lensing and her team at Gl&auml\;dje proudly present the Annual Spring Art Gala\, a tradition that the art gallery has upheld for well over a decade. The Annual Spring Art Gala will feature live music by folk artists Jolene and Dan\, and appearances by many of the 63 local artists represented by Gl&auml\;dje. To honor the Swedish history of Lindstrom and the gallery itself\, Gl&auml\;dje will be offering refreshments inspired by Fika &ndash\; coffee with dessert.</span><br />\n<br />\n<span style="font-family:open sans\,sans-serif">The purpose of the Annual Spring Art Gala is to celebrate beautiful works of art by local artists\, and to celebrate the arrival of spring with the community and supporters. The 3-hour event is free to the public\, but attendees are encouraged to RSVP online at </span><a href="http://www.gladjegallery.com/"><span style="font-family:open sans\,sans-serif">www.gladjegallery.com</span></a><span style="font-family:open sans\,sans-serif">.</span><br />\n<br />\n<span style="font-family:open sans\,sans-serif">When asked about the event\, Lensing said\, &ldquo\;I am grateful to have this incredibly large space filled with inspirational work by over 60 local artists. Art is for everyone\, and we at Gl&auml\;dje are humbled and delighted to create unique displays showcasing each artist to share with the community. A sustainable part of any community is lifelong learning.&nbsp\; My desire is to help our community learn how to play again\, try exploring different art disciplines\, and learn how to use mediums\, tools and the process of art-making fun.</span>
LOCATION:Gl dje\, 13025 Lake Blvd.\, Lindstrom\, MN 55045
UID:e.3575.3436
SEQUENCE:3
DTSTAMP:20260421T114958Z
URL:https://business.chisagolakeschamber.com/events/details/annual-spring-art-gala-3436
END:VEVENT

END:VCALENDAR
