BEGIN:VCALENDAR
VERSION:2.0
PRODID:-//ChamberMaster//Event Calendar 2.0//EN
METHOD:PUBLISH
X-PUBLISHED-TTL:P3D
REFRESH-INTERVAL:P3D
CALSCALE:GREGORIAN
BEGIN:VEVENT
DTSTART:20210327T180000Z
DTEND:20210327T210000Z
X-MICROSOFT-CDO-ALLDAYEVENT:FALSE
SUMMARY:Art Classes @ Franconia Commons: Abstract Clay Sculptures with Erin Paradis
DESCRIPTION:Please join Franconia Sculpture Park as we launch a new series of monthly\, 3-hour artmaking workshops for students of all ages and skills in the Driscoll Education Center at Franconia Commons. All classes are held on Saturdays from 1pm-4pm and cost $30/each\, including all art supplies.\n\n\n	March 27: Abstract Clay Sculptures with Erin Paradis\n\n\nErin Paradis is a current Franconia artist and holds an MFA in Ceramics and Sculpture from the University of Minnesota and a BFA in Ceramics and Painting from Alfred University. For this session\, students will learn different clay sculpting techniques and be able to take home your own abstract clay sculpture inspired by Erin's art.\n\n \n\nComing up:\n\n \n\n\n	April 17: Birdhouses\, Batboxes\, and Beeboxes with Don Porcella\n	May 29: Soft Sculpture with Allison Baker\n	June 12: Sound Sculpture with Lee Noble
X-ALT-DESC;FMTTYPE=text/html:<p style="margin: 0px\; padding: 0px\; color: rgb(102\, 102\, 102)\; font-family: Roboto\, &quot\;Lucida Grande&quot\;\, arial\, sans-serif\; font-size: 14px\; text-align: justify\;">Please join Franconia Sculpture Park as we launch a new series of monthly\, 3-hour artmaking workshops for students of all ages and skills in the Driscoll Education Center at Franconia Commons. All classes are held on Saturdays from 1pm-4pm and cost $30/each\, including all art supplies.</p>\n\n<ul style="margin: 0px\; padding-right: 0px\; padding-left: 30px\; color: rgb(102\, 102\, 102)\; font-family: Roboto\, &quot\;Lucida Grande&quot\;\, arial\, sans-serif\; font-size: 14px\;">\n	<li style="margin: 0px\; padding: 0px\; list-style: disc\;"><span style="font-style: inherit\; font-weight: 700\;">March 27: Abstract Clay Sculptures with Erin Paradis</span></li>\n</ul>\n\n<p style="margin: 0px\; padding: 0px\; color: rgb(102\, 102\, 102)\; font-family: Roboto\, &quot\;Lucida Grande&quot\;\, arial\, sans-serif\; font-size: 14px\; text-align: justify\;">Erin Paradis is a current Franconia artist and holds an MFA in Ceramics and Sculpture from the University of Minnesota and a BFA in Ceramics and Painting from Alfred University. For this session\, students will learn different clay sculpting techniques and be able to take home your own abstract clay sculpture inspired by Erin&rsquo\;s art.</p>\n\n<p style="margin: 0px\; padding: 0px\; color: rgb(102\, 102\, 102)\; font-family: Roboto\, &quot\;Lucida Grande&quot\;\, arial\, sans-serif\; font-size: 14px\;">&nbsp\;</p>\n\n<p style="margin: 0px\; padding: 0px\; color: rgb(102\, 102\, 102)\; font-family: Roboto\, &quot\;Lucida Grande&quot\;\, arial\, sans-serif\; font-size: 14px\; text-align: justify\;">Coming up:</p>\n\n<p style="margin: 0px\; padding: 0px\; color: rgb(102\, 102\, 102)\; font-family: Roboto\, &quot\;Lucida Grande&quot\;\, arial\, sans-serif\; font-size: 14px\; text-align: center\;">&nbsp\;</p>\n\n<ul style="margin: 0px\; padding-right: 0px\; padding-left: 30px\; color: rgb(102\, 102\, 102)\; font-family: Roboto\, &quot\;Lucida Grande&quot\;\, arial\, sans-serif\; font-size: 14px\;">\n	<li style="margin: 0px\; padding: 0px\; list-style: disc\;">April 17: Birdhouses\, Batboxes\, and Beeboxes with Don Porcella</li>\n	<li style="margin: 0px\; padding: 0px\; list-style: disc\;">May 29: Soft Sculpture with Allison Baker</li>\n	<li style="margin: 0px\; padding: 0px\; list-style: disc\;">June 12: Sound Sculpture with Lee Noble</li>\n</ul>\n
LOCATION:Franconia Sculpture Park 29836 St. Croix Trail Shafer\, MN 55074
UID:e.3575.363
SEQUENCE:3
DTSTAMP:20260423T144225Z
URL:https://business.chisagolakeschamber.com/events/details/art-classes-franconia-commons-abstract-clay-sculptures-with-erin-paradis-363
END:VEVENT

END:VCALENDAR
