BEGIN:VCALENDAR
VERSION:2.0
PRODID:-//ChamberMaster//Event Calendar 2.0//EN
METHOD:PUBLISH
X-PUBLISHED-TTL:P3D
REFRESH-INTERVAL:P3D
CALSCALE:GREGORIAN
BEGIN:VEVENT
DTSTART:20230923T150000Z
DTEND:20230923T230000Z
X-MICROSOFT-CDO-ALLDAYEVENT:FALSE
SUMMARY:Art On The Block - Arts & Crafts Fair
DESCRIPTION:Art On The Block is an annual community event at Gl dje welcoming artist and makers of all disciplines to connect with our community and sell their work!  \n\nAre you an artist\, maker\, crafter\, baker\, author\, or creator interested in selling & promoting your work in a community of other makers?  Vendors will choose a 10x10 spot in the greenspace on the West side of our building to set up their booth - a map is set up to reserve your space.  Limited electric spots available.  All vendors are responsible for their own booth's sales and safety.  A small fee of $50 upon registration -additional $10 for electric (if needed) will cover marketing/advertising and amenities provided by Gl dje.\n\nLive Music provided by Jazz Duo\, Debbie Bigelow and Dean Kleven from 11 am - 2 pm\, local food specials and arts activites for the entire family!
X-ALT-DESC;FMTTYPE=text/html:Art On The Block is an annual community event at Gl&auml\;dje welcoming artist and makers of all disciplines to connect with our community and sell their work!&nbsp\;&nbsp\;<br />\nAre you an artist\, maker\, crafter\, baker\, author\, or creator interested in selling &amp\; promoting your work in a community of other makers?&nbsp\; Vendors will choose a 10x10 spot in the greenspace on the West side of our building to set up their booth - a map is set up to reserve your space.&nbsp\; Limited electric spots available.&nbsp\; All vendors are responsible for their own booth&#39\;s sales and safety.&nbsp\; A small fee of $50 upon registration -additional $10 for electric (if needed) will cover marketing/advertising and amenities provided by Gl&auml\;dje.<br />\nLive Music provided by Jazz Duo\, Debbie Bigelow and Dean Kleven from 11 am - 2 pm\, local food specials and arts activites for the entire family!
LOCATION:Gl dje 13025 Lake Blvd. Lindstrom\, MN 55045
UID:e.3575.6154
SEQUENCE:3
DTSTAMP:20260422T093115Z
URL:https://business.chisagolakeschamber.com/events/details/art-on-the-block-arts-crafts-fair-6154
END:VEVENT

END:VCALENDAR
