BEGIN:VCALENDAR
VERSION:2.0
PRODID:-//ChamberMaster//Event Calendar 2.0//EN
METHOD:PUBLISH
X-PUBLISHED-TTL:P3D
REFRESH-INTERVAL:P3D
CALSCALE:GREGORIAN
BEGIN:VEVENT
DTSTART:20210812T163000Z
DTEND:20210812T180000Z
X-MICROSOFT-CDO-ALLDAYEVENT:FALSE
SUMMARY:August 12th Chamber Luncheon
DESCRIPTION:August 12th Chamber Luncheon\n\nFeature:  Tours Of Gammelgarden/Networking\n\nMeaning "old farm" in Swedish\, the Gammelg rden Museum is the only open-air museum devoted to preserving\, presenting\, and promoting Swedish immigrant heritage in the United States. Through the historic buildings that have been preserved\, artifacts on display\, special events\, and classes\, visitors can experience the daily lives of early immigrants in Minnesota through a Swedish lens.
X-ALT-DESC;FMTTYPE=text/html:August 12th Chamber Luncheon<br />\nFeature:&nbsp\; Tours Of Gammelgarden/Networking<br />\n<span style="color: rgb(102\, 102\, 102)\; font-family: &quot\;Open Sans&quot\;\, Arial\, sans-serif\; font-size: 14px\; text-align: center\; background-color: rgb(247\, 247\, 247)\;">Meaning &ldquo\;old farm&rdquo\; in Swedish\, the Gammelg&aring\;rden Museum is the only open-air museum devoted to preserving\, presenting\, and promoting Swedish immigrant heritage&nbsp\;</span><span style="box-sizing: border-box\; margin: 0px\; padding: 0px\; border: 0px\; outline: 0px\; font-size: 14px\; text-size-adjust: 100%\; vertical-align: baseline\; background: rgb(247\, 247\, 247)\; color: rgb(102\, 102\, 102)\; font-family: &quot\;Open Sans&quot\;\, Arial\, sans-serif\; text-align: center\;">in the United States. Through the historic buildings that have been preserved\,&nbsp\;<a href="https://gammelgardenmuseum.org/artifacts/" style="box-sizing: border-box\; margin: 0px\; padding: 0px\; border: 0px\; outline: 0px\; text-size-adjust: 100%\; vertical-align: baseline\; background: transparent\; color: rgb(2\, 136\, 136)\; text-decoration-line: none\;">artifacts</a>&nbsp\;on display\, special events\, and classes\, visitors can experience the daily lives of early immigrants in Minnesota through a Swedish lens.</span>
LOCATION:Thank you to Gammelgarden for hosting the August Chamber luncheon and for your continued support! Gammelgarden 20880 Olinda Trail North Scandia\, MN 55073
UID:e.3575.824
SEQUENCE:3
DTSTAMP:20260421T083300Z
URL:https://business.chisagolakeschamber.com/events/details/august-12th-chamber-luncheon-824
END:VEVENT

END:VCALENDAR
