BEGIN:VCALENDAR
VERSION:2.0
PRODID:-//ChamberMaster//Event Calendar 2.0//EN
METHOD:PUBLISH
X-PUBLISHED-TTL:P3D
REFRESH-INTERVAL:P3D
CALSCALE:GREGORIAN
BEGIN:VEVENT
DTSTART;VALUE=DATE:20220514
DTEND;VALUE=DATE:20220516
TRANSP:TRANSPARENT
X-MICROSOFT-CDO-ALLDAYEVENT:TRUE
SUMMARY:Barrel Tasting at Winehaven!
DESCRIPTION:To mark the beginning of another growing season\, and to remember the fruits of last year's labor\, join us for a winemaker's barrel tasting weekend May 14th and 15th!  Don't miss the unique opportunity to taste wine directly from the cask!
X-ALT-DESC;FMTTYPE=text/html:To mark the beginning of another growing season\, and to remember the fruits of last year&#39\;s labor\, join us for a winemaker&#39\;s barrel tasting weekend May 14th and 15th!&nbsp\; Don&#39\;t miss the unique opportunity to taste wine directly from the cask!
LOCATION:Winehaven Winery and Vineyard 10020 Deer Garden Lane Chisago City\, MN 55013
UID:e.3575.816
SEQUENCE:3
DTSTAMP:20260421T115646Z
URL:https://business.chisagolakeschamber.com/events/details/barrel-tasting-at-winehaven-05-14-2022-816
END:VEVENT

END:VCALENDAR
