BEGIN:VCALENDAR
VERSION:2.0
PRODID:-//ChamberMaster//Event Calendar 2.0//EN
METHOD:PUBLISH
X-PUBLISHED-TTL:P3D
REFRESH-INTERVAL:P3D
CALSCALE:GREGORIAN
BEGIN:VEVENT
DTSTART:20200112T183000Z
DTEND:20200112T200000Z
X-MICROSOFT-CDO-ALLDAYEVENT:FALSE
SUMMARY:Beer & Bracelets
DESCRIPTION:Join us at the Loon for a fun class creating a Wrap Diffuser Bracelet while enjoying a delicious craft beer only Uncommon Loon can create!\n\nHey\, use this link to signup:\n\nhttps://www.eventbrite.com/e/wrap-diffuser-bracelets-beers-tickets-87145605853\n\nCost: $20.00
X-ALT-DESC;FMTTYPE=text/html:<span style="color: rgb(29\, 33\, 41)\; font-family: Helvetica\, Arial\, sans-serif\; font-size: 14px\; white-space: pre-wrap\;">Join us at the Loon for a fun class creating a Wrap Diffuser Bracelet while enjoying a delicious craft beer only Uncommon Loon can create!</span><br style="color: rgb(29\, 33\, 41)\; font-family: Helvetica\, Arial\, sans-serif\; font-size: 14px\; white-space: pre-wrap\;" />\n<span style="color: rgb(29\, 33\, 41)\; font-family: Helvetica\, Arial\, sans-serif\; font-size: 14px\; white-space: pre-wrap\;">Hey\, use this link to signup:</span><br style="color: rgb(29\, 33\, 41)\; font-family: Helvetica\, Arial\, sans-serif\; font-size: 14px\; white-space: pre-wrap\;" />\n<a data-lynx-mode="hover" data-lynx-uri="https://l.facebook.com/l.php?u=https%3A%2F%2Fwww.eventbrite.com%2Fe%2Fwrap-diffuser-bracelets-beers-tickets-87145605853%3Ffbclid%3DIwAR2F36ov49jfw0C2qcwEJgtItGmUexsgXySEXzSfg7dGfUIls-tiu2YKuko&amp\;h=AT3j_ZhmBQRNkm2yKbhjAUZHV1LDLkxbwk9tYDEncSQiSpn3f7O71GJTZccxBEhVim6LjuJJqZseMxCS7glULoIVZVptv1MX78laV-TpOhqY5Jzd6zBg1PX4xUeiM0pp6Q" href="https://www.eventbrite.com/e/wrap-diffuser-bracelets-beers-tickets-87145605853?fbclid=IwAR2F36ov49jfw0C2qcwEJgtItGmUexsgXySEXzSfg7dGfUIls-tiu2YKuko" rel="nofollow noopener" style="color: rgb(56\, 88\, 152)\; cursor: pointer\; text-decoration-line: none\; font-family: Helvetica\, Arial\, sans-serif\; font-size: 14px\; white-space: pre-wrap\;" target="_blank">https://www.eventbrite.com/e/wrap-diffuser-bracelets-beers-tickets-87145605853</a><br style="color: rgb(29\, 33\, 41)\; font-family: Helvetica\, Arial\, sans-serif\; font-size: 14px\; white-space: pre-wrap\;" />\n<span style="color: rgb(29\, 33\, 41)\; font-family: Helvetica\, Arial\, sans-serif\; font-size: 14px\; white-space: pre-wrap\;">Cost: $20.00 </span>
LOCATION:
UID:e.3575.18
SEQUENCE:3
DTSTAMP:20260424T162443Z
URL:https://business.chisagolakeschamber.com/events/details/beer-bracelets-18
END:VEVENT

END:VCALENDAR
