BEGIN:VCALENDAR
VERSION:2.0
PRODID:-//ChamberMaster//Event Calendar 2.0//EN
METHOD:PUBLISH
X-PUBLISHED-TTL:P3D
REFRESH-INTERVAL:P3D
CALSCALE:GREGORIAN
BEGIN:VEVENT
DTSTART:20200209T230000Z
DTEND:20200210T010000Z
X-MICROSOFT-CDO-ALLDAYEVENT:FALSE
SUMMARY:Beer & Hymns
DESCRIPTION:Join us as we enjoy drinks\, sing hymns\, and make new friends. This is a kid-friendly event. Deutschland Meats will be selling food on site! Sponsored by Mi Chi Lu a partnership of Chisago Lake\, First Evangelical\, Immanuel\, Trinity\, and Zion Lutheran Churches.
X-ALT-DESC;FMTTYPE=text/html:<span style="color: rgb(0\, 0\, 0)\; font-family: Roboto\, &quot\;Lucida Grande&quot\;\, arial\, sans-serif\; font-size: 14px\;">Join us as we enjoy drinks\, sing hymns\, and make new friends. This is a kid-friendly event. Deutschland Meats will be selling food on site! Sponsored by Mi Chi Lu a partnership of Chisago Lake\, First Evangelical\, Immanuel\, Trinity\, and Zion Lutheran Churches.</span>
LOCATION:The Uncommon Loon Brewery 10825 Lake Blvd Chisago City\, MN 55013 651-321-4468
UID:e.3575.178
SEQUENCE:3
DTSTAMP:20260424T151221Z
URL:https://business.chisagolakeschamber.com/events/details/beer-hymns-178
END:VEVENT

END:VCALENDAR
