BEGIN:VCALENDAR
VERSION:2.0
PRODID:-//ChamberMaster//Event Calendar 2.0//EN
METHOD:PUBLISH
X-PUBLISHED-TTL:P3D
REFRESH-INTERVAL:P3D
CALSCALE:GREGORIAN
BEGIN:VEVENT
DTSTART:20221008T130000Z
DTEND:20221008T190000Z
X-MICROSOFT-CDO-ALLDAYEVENT:FALSE
SUMMARY:Bi-Annual Recylcing Day at Chisago Lake Lutheran Church
DESCRIPTION:Bi-Annual Recycling Day at Chisago Lake Lutheran Church\n\nCall the church office at 651-257-6300\, Ext. 1 with questions.
X-ALT-DESC;FMTTYPE=text/html:Bi-Annual Recycling Day at Chisago Lake Lutheran Church<br />\nCall the church office at 651-257-6300\, Ext. 1 with questions.
LOCATION:Chisago Lake Lutheran Church Lower Parking Lot 1 Summit Avenue Center City\, MN 55012
UID:e.3575.5105
SEQUENCE:3
DTSTAMP:20260422T215650Z
URL:https://business.chisagolakeschamber.com/events/details/bi-annual-recylcing-day-at-chisago-lake-lutheran-church-5105
END:VEVENT

END:VCALENDAR
