BEGIN:VCALENDAR
VERSION:2.0
PRODID:-//ChamberMaster//Event Calendar 2.0//EN
METHOD:PUBLISH
X-PUBLISHED-TTL:P3D
REFRESH-INTERVAL:P3D
CALSCALE:GREGORIAN
BEGIN:VEVENT
DTSTART:20230208T000000Z
DTEND:20230208T023000Z
X-MICROSOFT-CDO-ALLDAYEVENT:FALSE
SUMMARY:Bingo at the Uncommon Loon
DESCRIPTION:Join us for weekly BINGO on Tuesday nights at the Uncommon Loon Brewing Company in Chisago City!\n\n\n\n*Sales will start at 6pm\n\n*First game is at 6:30\n\n*Sheets for game 1-5 are $1\; 75% payout\n\n*Sheets for game 6 are $2\; $99 payout\n\n\n\nCheck out our Go-to-Local Gift Card Raffle! Tickets are $1 each and the prize is a $20 gift card!\n\n\n\nIf you have questions\, please contact Lakes Center for Youth and Families at 651-464-3685.\n\nLakes Center for Youth and Families is a lawful gambling organization\, license #34511.
X-ALT-DESC;FMTTYPE=text/html:Join us for weekly BINGO on Tuesday nights at the Uncommon Loon Brewing Company in Chisago City!<br />\n<br />\n*Sales will start at 6pm<br />\n*First game is at 6:30<br />\n*Sheets for game 1-5 are $1\; 75% payout<br />\n*Sheets for game 6 are $2\; $99 payout<br />\n<br />\nCheck out our Go-to-Local Gift Card Raffle! Tickets are $1 each and the prize is a $20 gift card!<br />\n<br />\nIf you have questions\, please contact Lakes Center for Youth and Families at 651-464-3685.<br />\nLakes Center for Youth and Families is a lawful gambling organization\, license #34511.
LOCATION:Uncommon Loon Brewing Company 10825 Lake Blvd\, Chisago City\, MN 55013
UID:e.3575.5467
SEQUENCE:3
DTSTAMP:20260422T161350Z
URL:https://business.chisagolakeschamber.com/events/details/bingo-at-the-uncommon-loon-02-07-2023-5467
END:VEVENT

END:VCALENDAR
