BEGIN:VCALENDAR
VERSION:2.0
PRODID:-//ChamberMaster//Event Calendar 2.0//EN
METHOD:PUBLISH
X-PUBLISHED-TTL:P3D
REFRESH-INTERVAL:P3D
CALSCALE:GREGORIAN
BEGIN:VEVENT
DTSTART:20221118T000000Z
DTEND:20221118T020000Z
X-MICROSOFT-CDO-ALLDAYEVENT:FALSE
SUMMARY:Book Signing with Daniel Rehm\, author of Let Flowers Be Flowers
DESCRIPTION:Twinflower Books invites you to the Book Signing with our own Daniel Rehm for his second release\, Let Flowers Be Flowers. We will have a short introduction of Dan's new work\, followed by book signings\, then we will serve cake at 7pm.  \n\n\n\nAbout Let Flowers Be Flowers\n\nAn estranged family preparing for the annual Wisconsin gun deer hunt carries on completely unaware of how their lives were about to change forever. Motivated by greed and jealousy\, eldest brother Mason Owens hatches a nefarious plan. He nearly thought of everything except the intrusion of an unknown hunter with stark raving blue eyes. When the dust settles\, an historic scene sends shockwaves across the country and provides fuel for campfire stories for generations to come.\n\n\n\nRead the Kirkus Reviews here\n\nhttps://www.kirkusreviews.com/.../let-flowers-be-flowers/\n\n\n\nAbout Daniel Rehm\n\nDaniel Rehm is the founder of Rudbeckia Productions and the owner of Twinflower Books.\n\n\n\nDaniel Rehm became a full-time writer after a long career in the paint and industrial coatings industry. Dan wrote Let Flowers Be Flowers between 2008 and 2011 and launched Rudbeckia Productions\, LLC in 2020 to publish his work.\n\n\n\nDan's writing includes various landscapes he knows very well   from the coulee area of western Wisconsin to the boreal forest of the Boundary Waters Canoe Area. He has enjoyed writing Let Flowers Be Flowers because he was able to explore both character development and bring to life the various relationships among men and their families. In addition\, explore the sociopathic nature of a killer   what motivates a killer\, what haunts a killer\, and what purpose that killer believes he has in his life.\n\n\n\nDan lives in North Branch\, MN with his wife and four children.
X-ALT-DESC;FMTTYPE=text/html:<div>Twinflower Books invites you to the Book Signing with our own Daniel Rehm for his second release\,&nbsp\;<em><strong>Let Flowers Be Flowers</strong></em>. We will have a short introduction of Dan&#39\;s new work\, followed by book signings\, then we will serve cake at 7pm.&nbsp\;&nbsp\;</div>\n\n<div><br />\n<strong>About <em>Let Flowers Be Flowers</em></strong></div>\n\n<div>An estranged family preparing for the annual Wisconsin gun deer hunt carries on completely unaware of how their lives were about to change forever. Motivated by greed and jealousy\, eldest brother Mason Owens hatches a nefarious plan. He nearly thought of everything except the intrusion of an unknown hunter with stark raving blue eyes. When the dust settles\, an historic scene sends shockwaves across the country and provides fuel for campfire stories for generations to come.</div>\n\n<div><br />\nRead the Kirkus Reviews here<br />\n<a class="x1i10hfl xjbqb8w x6umtig x1b1mbwd xaqea5y xav7gou x9f619 x1ypdohk xt0psk2 xe8uvvx xdj266r x11i5rnm xat24cr x1mh8g0r xexx8yu x4uap5 x18d9i69 xkhd6sd x16tdsg8 x1hl2dhg xggy1nq x1a2a7pz xt0b8zv x1fey0fg" href="https://www.kirkusreviews.com/book-reviews/daniel-rehm/let-flowers-be-flowers/?fbclid=IwAR3EHcChvhi5elXUoXEYlvsW6P8C3kTgeHymTMu1ucN3zryQOcfk744SFoY" rel="nofollow noopener" style="color: var(--blue-link)\; cursor: pointer\; text-decoration-line: none\; outline: none\; list-style: none\; border-width: 0px\; border-style: initial\; border-color: initial\; margin: 0px\; text-align: inherit\; padding: 0px\; -webkit-tap-highlight-color: transparent\; box-sizing: border-box\; touch-action: manipulation\; background-color: transparent\; display: inline\; font-family: inherit\;" tabindex="0" target="_blank">https://www.kirkusreviews.com/.../let-flowers-be-flowers/</a></div>\n\n<div><br />\n<strong>About Daniel Rehm</strong><br />\nDaniel Rehm is the founder of Rudbeckia Productions and the owner of Twinflower Books.</div>\n\n<div><br />\nDaniel Rehm became a full-time writer after a long career in the paint and industrial coatings industry. Dan wrote Let Flowers Be Flowers between 2008 and 2011 and launched Rudbeckia Productions\, LLC in 2020 to publish his work.</div>\n\n<div><br />\nDan&rsquo\;s writing includes various landscapes he knows very well &ndash\; from the coulee area of western Wisconsin to the boreal forest of the Boundary Waters Canoe Area. He has enjoyed writing Let Flowers Be Flowers because he was able to explore both character development and bring to life the various relationships among men and their families. In addition\, explore the sociopathic nature of a killer &ndash\; what motivates a killer\, what haunts a killer\, and what purpose that killer believes he has in his life.</div>\n\n<div><br />\nDan lives in North Branch\, MN with his wife and four children.</div>\n
LOCATION:Twinflower Books 280 Andrews Ave\, Center City\, MN 55012
UID:e.3575.5339
SEQUENCE:3
DTSTAMP:20260422T215753Z
URL:https://business.chisagolakeschamber.com/events/details/book-signing-with-daniel-rehm-author-of-let-flowers-be-flowers-5339
END:VEVENT

END:VCALENDAR
