BEGIN:VCALENDAR
VERSION:2.0
PRODID:-//ChamberMaster//Event Calendar 2.0//EN
METHOD:PUBLISH
X-PUBLISHED-TTL:P3D
REFRESH-INTERVAL:P3D
CALSCALE:GREGORIAN
BEGIN:VEVENT
DTSTART:20221217T150000Z
DTEND:20221217T170000Z
X-MICROSOFT-CDO-ALLDAYEVENT:FALSE
SUMMARY:Breakfast with Santa at Gustaf's On Main Eatery
DESCRIPTION:Come and enjoy Breakfast with Santa at Gustaf's On Main Eatery!\n\n\n\nBring your own camera for photos with Santa. Breakfast seating times are post-Santa picture taking.\n\n\n\nBreakfast includes Swedish Pancakes\, Bacon\, Chocolate Milk\, Juice Box or Water\, and a Treat. Adults may order from the standard menu.\n\n\n\nReservations are required by calling 651-263-0737.
X-ALT-DESC;FMTTYPE=text/html:<p>Come and enjoy Breakfast with Santa at Gustaf&#39\;s On Main Eatery!<br />\n<br />\nBring your own camera for photos with Santa. Breakfast seating times are post-Santa picture taking.<br />\n<br />\nBreakfast includes Swedish Pancakes\, Bacon\, Chocolate Milk\, Juice Box or Water\, and a Treat. Adults may order from the standard menu.<br />\n<br />\nReservations are required by calling 651-263-0737.<br />\n<br />\n&nbsp\;</p>\n
LOCATION:Gustaf's On Main Eatery 13045 Lake Blvd Lindstrom\, MN 55045
UID:e.3575.5361
SEQUENCE:3
DTSTAMP:20260422T190006Z
URL:https://business.chisagolakeschamber.com/events/details/breakfast-with-santa-at-gustaf-s-on-main-eatery-5361
END:VEVENT

END:VCALENDAR
