BEGIN:VCALENDAR
VERSION:2.0
PRODID:-//ChamberMaster//Event Calendar 2.0//EN
METHOD:PUBLISH
X-PUBLISHED-TTL:P3D
REFRESH-INTERVAL:P3D
CALSCALE:GREGORIAN
BEGIN:VEVENT
DTSTART:20210502T180000Z
DTEND:20210502T210000Z
X-MICROSOFT-CDO-ALLDAYEVENT:FALSE
SUMMARY:Build a Do It Yourself Clock at Winehaven!
DESCRIPTION:Spend a wonderful weekend at Winehaven creating your very own wooden sign or clock at this fun workshop! You pick the design from the link on the website or you can request a custom made design.  Don't miss this fun event at Winehaven!  Wine\, beer and pop and food will also be available for purchase.
X-ALT-DESC;FMTTYPE=text/html:<p>Spend a wonderful weekend at Winehaven creating your very own wooden sign or clock at this fun workshop! You pick the design from the link on the&nbsp\;website&nbsp\;or you can request a&nbsp\;<a href="https://www.againstthegrainsigns.com/custom-design-clocks">custom made design</a>.&nbsp\; Don&#39\;t miss this fun event at Winehaven!&nbsp\;&nbsp\;Wine\, beer and pop and food will also be available for purchase.</p>\n
LOCATION:Winehaven Winery and Vineyard 10020 Deer Garden Lane Chisago City\, MN 55013
UID:e.3575.815
SEQUENCE:3
DTSTAMP:20260423T115923Z
URL:https://business.chisagolakeschamber.com/events/details/build-a-do-it-yourself-clock-at-winehaven-05-02-2021-815
END:VEVENT

END:VCALENDAR
