BEGIN:VCALENDAR
VERSION:2.0
PRODID:-//ChamberMaster//Event Calendar 2.0//EN
METHOD:PUBLISH
X-PUBLISHED-TTL:P3D
REFRESH-INTERVAL:P3D
CALSCALE:GREGORIAN
BEGIN:VEVENT
DTSTART:20200126T190000Z
DTEND:20200126T220000Z
X-MICROSOFT-CDO-ALLDAYEVENT:FALSE
SUMMARY:Build a Do-It-Yourself Clock at Winehaven
DESCRIPTION:Sip your favorite wines and enjoy step-by-step instruction to create a unique clock that you get to take home! Preregister Here All materials will be ready for you when you arrive for class! Prepayment $64.95 required. Please feel free to contact Dawn with any questions at 612-290-9042 or djohnjr1@gmail.com. Sign-up online here!
X-ALT-DESC;FMTTYPE=text/html:<span style="color:#5E5E5E\;"><span style="font-family:arial\,sans-serif\;"><span style="font-size:11.5pt\;">Sip your favorite wines and enjoy step-by-step instruction to create a unique clock that you get to take home!&nbsp\;</span></span></span><a data-id="l-1053470017" href="https://www.facebook.com/events/866002943747303/" style="cursor:pointer\;font-variant-ligatures:normal\;font-variant-caps:normal\;orphans:2\;widows:2\;-webkit-text-stroke-width:0px\;word-spacing:0px\;" target="_blank"><span style="color:#1C6E98\;"><span style="font-family:arial\,sans-serif\;"><span style="font-size:11.5pt\;">Preregister Here</span></span></span></a><span style="color:#5E5E5E\;"><span style="font-family:arial\,sans-serif\;"><span style="font-size:11.5pt\;"><span style="font-variant-ligatures:normal\;font-variant-caps:normal\;orphans:2\;widows:2\;-webkit-text-stroke-width:0px\;text-decoration-style:initial\;float:none\;word-spacing:0px\;">&nbsp\;All materials will be ready for you when you arrive for class! Prepayment $64.95 required. Please feel free to contact Dawn with any questions at 612-290-9042 or&nbsp\;</span></span></span></span><a data-id="l-7153675271" href="mailto:djohnjr1@gmail.com" style="cursor:pointer\;font-variant-ligatures:normal\;font-variant-caps:normal\;orphans:2\;widows:2\;-webkit-text-stroke-width:0px\;word-spacing:0px\;" target="_blank"><span style="color:#1C6E98\;"><span style="font-family:arial\,sans-serif\;"><span style="font-size:11.5pt\;">djohnjr1@gmail.com</span></span></span></a><span style="color:#5E5E5E\;"><span style="font-family:arial\,sans-serif\;"><span style="font-size:11.5pt\;"><span style="font-variant-ligatures:normal\;font-variant-caps:normal\;orphans:2\;widows:2\;-webkit-text-stroke-width:0px\;text-decoration-style:initial\;float:none\;word-spacing:0px\;">.&nbsp\;</span></span></span></span><a data-id="l-7830297547" href="https://www.facebook.com/events/866002943747303/" style="cursor:pointer\;font-variant-ligatures:normal\;font-variant-caps:normal\;orphans:2\;widows:2\;-webkit-text-stroke-width:0px\;word-spacing:0px\;" target="_blank"><span style="color:#1C6E98\;"><span style="font-family:arial\,sans-serif\;"><span style="font-size:11.5pt\;">Sign-up online here</span></span></span></a><span style="color:#5E5E5E\;"><span style="font-family:arial\,sans-serif\;"><span style="font-size:11.5pt\;"><span style="font-variant-ligatures:normal\;font-variant-caps:normal\;orphans:2\;widows:2\;-webkit-text-stroke-width:0px\;text-decoration-style:initial\;float:none\;word-spacing:0px\;">!</span></span></span></span>
LOCATION:Winehaven 10020 Deer Garden Lane\, Chisago City
UID:e.3575.11
SEQUENCE:3
DTSTAMP:20260424T162644Z
URL:https://business.chisagolakeschamber.com/events/details/build-a-do-it-yourself-clock-at-winehaven-11
END:VEVENT

END:VCALENDAR
