BEGIN:VCALENDAR
VERSION:2.0
PRODID:-//ChamberMaster//Event Calendar 2.0//EN
METHOD:PUBLISH
X-PUBLISHED-TTL:P3D
REFRESH-INTERVAL:P3D
CALSCALE:GREGORIAN
BEGIN:VEVENT
DTSTART:20200223T190000Z
DTEND:20200223T230000Z
X-MICROSOFT-CDO-ALLDAYEVENT:FALSE
SUMMARY:Build Your Own Succulent Bar
DESCRIPTION:Join Minnesota?s original and largest traveling succulent bar\, Succ It Up Buttercup\, at Uncommon Loon Brewing Company in Chisago City for a Build-Your-Own Plant Bar!\n\n\n\nThis is a come as you please\, open house style event. No registration or ticket purchase needed (please mark yourself as going on this event page so we can be sure to bring enough supplies for everyone attending.) Come any time between 1 pm to 5 pm to create your very own unique\, one of a kind plant(s) creation! We supply hundreds of containers from vintage to modern and a whole bunch of beautiful succulents\, cacti\, air plants & houseplants! If you have your own container you would like to use\, feel free to bring it and we will take $1 off your total.\n\n\n\nPrices are between $18- $33 (cash or credit) depending on how many\, and which type of plants you choose to put in your container. All prices listed below include everything you need to plant and decorate your arrangement\, including any size container.
X-ALT-DESC;FMTTYPE=text/html:Join Minnesota?s original and largest traveling succulent bar\, <a href="https://www.facebook.com/Succ-It-Up-Buttercup-1840119462908206/" target="_blank">Succ It Up Buttercup</a>\, at <a href="https://www.facebook.com/uncommonloonbrewing/" target="_blank">Uncommon Loon Brewing Company</a> in Chisago City for a Build-Your-Own Plant Bar!<br>\n<br>\nThis is a come as you please\, open house style event. No registration or ticket purchase needed (please mark yourself as going on this event page so we can be sure to bring enough supplies for everyone attending.) Come any time between 1 pm to 5 pm to create your very own unique\, one of a kind plant(s) creation! We supply hundreds of containers from vintage to modern and a whole bunch of beautiful succulents\, cacti\, air plants &amp\; houseplants! If you have your own container you would like to use\, feel free to bring it and we will take $1 off your total.<br>\n<br>\nPrices are between $18- $33 (cash or credit) depending on how many\, and which type of plants you choose to put in your container. All prices listed below include everything you need to plant and decorate your arrangement\, including any size container.
LOCATION:Uncommon Loon Brewing Company - Event Room
UID:e.3575.198
SEQUENCE:3
DTSTAMP:20260424T152330Z
URL:https://business.chisagolakeschamber.com/events/details/build-your-own-succulent-bar-198
END:VEVENT

END:VCALENDAR
