BEGIN:VCALENDAR
VERSION:2.0
PRODID:-//ChamberMaster//Event Calendar 2.0//EN
METHOD:PUBLISH
X-PUBLISHED-TTL:P3D
REFRESH-INTERVAL:P3D
CALSCALE:GREGORIAN
BEGIN:VEVENT
DTSTART:20240302T160000Z
DTEND:20240302T230000Z
X-MICROSOFT-CDO-ALLDAYEVENT:FALSE
SUMMARY:Cabin Fever Days!
DESCRIPTION:Come out of hibernation and taste some of our vintage selections that we will bring out of our cellar for this special event. This is the only weekend of the year where guests can taste Winehaven's classic wines that have been aging in our cellar for years! Compare our 10-year-old wines to the new vintages. Learn about how wines can improve with age!
X-ALT-DESC;FMTTYPE=text/html:<span style="color:rgb(138\, 138\, 138)\; font-family:karla\,sans-serif\; font-size:18px">Come out of hibernation and taste some of our vintage selections that we will bring out of our cellar for this special event. This is the only weekend of the year where guests can taste Winehaven&#39\;s classic wines that have been aging in our cellar for years! Compare our 10-year-old wines to the new vintages. Learn about how wines can improve with age!</span>
LOCATION:Winehaven Winery and Vineyard 10020 Deer Garden Lane Chisago City\, MN 55013
UID:e.3575.6493
SEQUENCE:3
DTSTAMP:20260420T053650Z
URL:https://business.chisagolakeschamber.com/events/details/cabin-fever-days-03-02-2024-6493
END:VEVENT

END:VCALENDAR
