BEGIN:VCALENDAR
VERSION:2.0
PRODID:-//ChamberMaster//Event Calendar 2.0//EN
METHOD:PUBLISH
X-PUBLISHED-TTL:P3D
REFRESH-INTERVAL:P3D
CALSCALE:GREGORIAN
BEGIN:VEVENT
DTSTART;VALUE=DATE:20220305
DTEND;VALUE=DATE:20220307
TRANSP:TRANSPARENT
X-MICROSOFT-CDO-ALLDAYEVENT:TRUE
SUMMARY:Cabin Fever Days at Winehaven!
DESCRIPTION:Got Cabin Fever? We Have The Cure! \n\n\n\nCome and taste some of our vintage selections that we are bringing out of hibernation for this special event. Compare these well-aged classics to wines from the current vintage and learn about how wines change over time! This is the only weekend of the year where visitors can taste and purchase Winehaven's selections that have been aging in the cellar for years!
X-ALT-DESC;FMTTYPE=text/html:Got Cabin Fever? We Have The Cure!&nbsp\;<br />\n<br />\nCome and taste some of our vintage selections that we are bringing out of hibernation for this special event. Compare these well-aged classics to wines from the current vintage and learn about how wines change over time! This is the only weekend of the year where visitors can taste and purchase Winehaven&#39\;s selections that have been aging in the cellar for years!&nbsp\;
LOCATION:Winehven Winery and Vineyard 10020 Deer Garden Lane Chisago City\, MN 55013
UID:e.3575.3055
SEQUENCE:3
DTSTAMP:20260421T103856Z
URL:https://business.chisagolakeschamber.com/events/details/cabin-fever-days-at-winehaven-3055
END:VEVENT

END:VCALENDAR
