BEGIN:VCALENDAR
VERSION:2.0
PRODID:-//ChamberMaster//Event Calendar 2.0//EN
METHOD:PUBLISH
X-PUBLISHED-TTL:P3D
REFRESH-INTERVAL:P3D
CALSCALE:GREGORIAN
BEGIN:VEVENT
DTSTART:20230221T190000Z
DTEND:20230221T203000Z
X-MICROSOFT-CDO-ALLDAYEVENT:FALSE
SUMMARY:Caregiver Essentials Workshop by Family Pathways
DESCRIPTION:Caregiver Essentials - an educational program designed to assist family caregivers.\n\n\n\nAre you a caregiver for someone with dementia?\n\nLearn about community resources\, how to plan after diagnosis\, and how to care for yourself and loved ones during this educational session at the North Branch Area Library. The session will be led by Collette Colucci\, from Family Pathways\, whose passion is helping those with friends or loved ones impacted by dementia. Collette has more than 30 years of experience working with people living with the disease and their caregivers. She is a Dementia Friends champion\, Dementia Educator\, and community educator for the Alzheimer's Association. She is excited to be able to provide this session for people in the North Branch community.\n\nRegistration is required (see below).\n\nThis event is sponsored by Family Pathways.
X-ALT-DESC;FMTTYPE=text/html:<p style="box-sizing: border-box\; margin: 0px 0px 10px\; font-family: Arial\, Helvetica\, Verdana\; font-size: 12px\; background-color: rgb(244\, 244\, 244)\;"><span style="font-size:14px\;"><span style="font-family:arial\;">Caregiver Essentials - an educational program designed to assist family caregivers.<br />\n<br />\nAre you a caregiver for someone with dementia?</span></span></p>\n\n<p style="box-sizing: border-box\; margin: 0px 0px 10px\; font-family: Arial\, Helvetica\, Verdana\; font-size: 12px\; background-color: rgb(244\, 244\, 244)\;"><span style="font-size:14px\;"><span style="font-family:arial\;">Learn about community resources\, how to plan after diagnosis\, and how to care for yourself and loved ones during this educational session at the North Branch Area Library. The session will be led by Collette Colucci\, from Family Pathways\, whose passion is helping those with friends or loved ones impacted by dementia.&nbsp\;Collette has more than 30 years of experience working with people living with the disease and their caregivers.&nbsp\;She is a Dementia Friends champion\, Dementia Educator\, and community educator for the Alzheimer&rsquo\;s Association.&nbsp\;She is excited to be able to provide this session for people in the North Branch community.</span></span></p>\n\n<p style="box-sizing: border-box\; margin: 0px 0px 10px\; font-family: Arial\, Helvetica\, Verdana\; font-size: 12px\; background-color: rgb(244\, 244\, 244)\;"><span style="font-size:14px\;"><span style="font-family:arial\;">Registration is required (see below).</span></span></p>\n\n<p style="box-sizing: border-box\; margin: 0px 0px 10px\; font-family: Arial\, Helvetica\, Verdana\; font-size: 12px\; background-color: rgb(244\, 244\, 244)\;"><span style="font-size:14px\;"><span style="font-family:arial\;">This event is sponsored by&nbsp\;Family Pathways.</span></span></p>\n
LOCATION:North Branch Library 6355 379th St North Branch\, MN 55056
UID:e.3575.5513
SEQUENCE:3
DTSTAMP:20260422T161312Z
URL:https://business.chisagolakeschamber.com/events/details/caregiver-essentials-workshop-by-family-pathways-5513
END:VEVENT

END:VCALENDAR
