BEGIN:VCALENDAR
VERSION:2.0
PRODID:-//ChamberMaster//Event Calendar 2.0//EN
METHOD:PUBLISH
X-PUBLISHED-TTL:P3D
REFRESH-INTERVAL:P3D
CALSCALE:GREGORIAN
BEGIN:VEVENT
DTSTART:20221203T150000Z
DTEND:20221203T220000Z
X-MICROSOFT-CDO-ALLDAYEVENT:FALSE
SUMMARY:Center City Fire Dept. Auxiliary Holiday Boutique
DESCRIPTION:Center City Fire Dept. Auxiliary Holiday Boutique\n\n\n\nVisit https://www.facebook.com/events/1060727788137688 for more information!
X-ALT-DESC;FMTTYPE=text/html:Center City Fire Dept. Auxiliary Holiday Boutique<br />\n<br />\nVisit&nbsp\;https://www.facebook.com/events/1060727788137688 for more information!&nbsp\;
LOCATION:Center City Fire Hall 335 Burns Avenue Center City\, MN 55012
UID:e.3575.5360
SEQUENCE:3
DTSTAMP:20260422T190740Z
URL:https://business.chisagolakeschamber.com/events/details/center-city-fire-dept-auxiliary-holiday-boutique-5360
END:VEVENT

END:VCALENDAR
