BEGIN:VCALENDAR
VERSION:2.0
PRODID:-//ChamberMaster//Event Calendar 2.0//EN
METHOD:PUBLISH
X-PUBLISHED-TTL:P3D
REFRESH-INTERVAL:P3D
CALSCALE:GREGORIAN
BEGIN:VEVENT
DTSTART:20221203T000000Z
DTEND:20221203T013000Z
X-MICROSOFT-CDO-ALLDAYEVENT:FALSE
SUMMARY:Center City Fire Dept. Auxiliary Small Town Christmas
DESCRIPTION:Center City Fire Department Auxiliary presents...Small Town Christmas\n\nDecorate cookies\, meet Santa\, hot chocolate\, popcorn & holiday movie! Wear your Christmas pajamas!\n\n\n\nVisit https://www.facebook.com/ccfdfirefly5k for more information.
X-ALT-DESC;FMTTYPE=text/html:<p>Center City Fire Department Auxiliary presents...Small Town Christmas</p>\n\n<p>Decorate cookies\, meet Santa\, hot chocolate\, popcorn &amp\; holiday movie! Wear your Christmas pajamas!<br />\n<br />\nVisit&nbsp\;https://www.facebook.com/ccfdfirefly5k for more information.</p>\n
LOCATION:Center City Fire Hall 335 Burns Ave Center City\, MN 55012
UID:e.3575.5359
SEQUENCE:3
DTSTAMP:20260422T204647Z
URL:https://business.chisagolakeschamber.com/events/details/center-city-fire-dept-auxiliary-small-town-christmas-5359
END:VEVENT

END:VCALENDAR
