BEGIN:VCALENDAR
VERSION:2.0
PRODID:-//ChamberMaster//Event Calendar 2.0//EN
METHOD:PUBLISH
X-PUBLISHED-TTL:P3D
REFRESH-INTERVAL:P3D
CALSCALE:GREGORIAN
BEGIN:VEVENT
DTSTART:20201211T000000Z
DTEND:20201211T010000Z
X-MICROSOFT-CDO-ALLDAYEVENT:FALSE
SUMMARY:Chamber Annual Meeting
DESCRIPTION:The Board of Directors of the Chisago Lakes Chamber would like to invite you to our Annual Meeting. Due to the ongoing circumstances that limit our ability to gather\, the 2020 meeting will happen via Zoom. We look forward to seeing you on Thursday\, December 10th at 6:00pm.\n\nJoin Zoom Meeting Meeting ID: 838 1675 9828 Passcode: kxA5Kx\n\n \n\n \n\n\n	6:00pm: Call to Order & Opening Remarks by Susan Clayton-President\n	6:10pm: Reports/Event Updates by Marlys Dunne-Treasurer & Katie Malchow-Chamber Director\n	6:30pm: Chamber Board Member Positions\n	6:45pm: 2021 Initiatives/Goals\n	7:00pm: Adjourn
X-ALT-DESC;FMTTYPE=text/html:<p style="margin: 0px\; padding: 0px\; color: rgb(102\, 102\, 102)\; font-family: Roboto\, &quot\;Lucida Grande&quot\;\, arial\, sans-serif\; font-size: 14px\; text-align: justify\;">The Board of Directors of the Chisago Lakes Chamber would like to invite you to our Annual Meeting. Due to the ongoing circumstances that limit our ability to gather\, the 2020 meeting will happen via Zoom. We look forward to seeing you on Thursday\, December 10th at 6:00pm.</p>\n\n<p style="margin: 0px\; padding: 0px\; color: rgb(102\, 102\, 102)\; font-family: Roboto\, &quot\;Lucida Grande&quot\;\, arial\, sans-serif\; font-size: 14px\; text-align: justify\;">Join&nbsp\;<a data-id="l-9025465383" href="https://chisagolakeschamber.us11.list-manage.com/track/click?u=36fa549bd89fac14301c31d0b&amp\;id=518f299451&amp\;e=33c52c783c" o-href="https%3A%2F%2Fchisagolakeschamber.us11.list-manage.com%2Ftrack%2Fclick%3Fu%3D36fa549bd89fac14301c31d0b%26id%3D518f299451%26e%3D33c52c783c" rel="nofollow" style="cursor: pointer\; color: rgb(28\, 110\, 152)\;" target="_blank" track-href="https://www.smore.com/app/reporting/out/w2zsh?u=https%253A%252F%252Fchisagolakeschamber.us11.list-manage.com%252Ftrack%252Fclick%253Fu%253D36fa549bd89fac14301c31d0b%2526id%253D518f299451%2526e%253D33c52c783c&amp\;t=Zoom%20Meeting&amp\;w=w-1499090736&amp\;i=&amp\;l=l-9025465383">Zoom Meeting</a>&nbsp\;Meeting ID: 838 1675 9828 Passcode: kxA5Kx</p>\n\n<p style="margin: 0px\; padding: 0px\; color: rgb(102\, 102\, 102)\; font-family: Roboto\, &quot\;Lucida Grande&quot\;\, arial\, sans-serif\; font-size: 14px\; text-align: justify\;">&nbsp\;</p>\n\n<p style="margin: 0px\; padding: 0px\; color: rgb(102\, 102\, 102)\; font-family: Roboto\, &quot\;Lucida Grande&quot\;\, arial\, sans-serif\; font-size: 14px\; text-align: justify\;">&nbsp\;</p>\n\n<ul style="margin: 0px\; padding-right: 0px\; padding-left: 30px\; color: rgb(102\, 102\, 102)\; font-family: Roboto\, &quot\;Lucida Grande&quot\;\, arial\, sans-serif\; font-size: 14px\;">\n	<li style="margin: 0px\; padding: 0px\; list-style: disc\;">6:00pm: Call to Order &amp\; Opening Remarks by Susan Clayton-President</li>\n	<li style="margin: 0px\; padding: 0px\; list-style: disc\;">6:10pm: Reports/Event Updates by Marlys Dunne-Treasurer &amp\; Katie Malchow-Chamber Director</li>\n	<li style="margin: 0px\; padding: 0px\; list-style: disc\;">6:30pm: Chamber Board Member Positions</li>\n	<li style="margin: 0px\; padding: 0px\; list-style: disc\;">6:45pm: 2021 Initiatives/Goals</li>\n	<li style="margin: 0px\; padding: 0px\; list-style: disc\;">7:00pm: Adjourn</li>\n</ul>\n
LOCATION:
UID:e.3575.331
SEQUENCE:3
DTSTAMP:20260424T023818Z
URL:https://business.chisagolakeschamber.com/events/details/chamber-annual-meeting-331
END:VEVENT

END:VCALENDAR
