BEGIN:VCALENDAR
VERSION:2.0
PRODID:-//ChamberMaster//Event Calendar 2.0//EN
METHOD:PUBLISH
X-PUBLISHED-TTL:P3D
REFRESH-INTERVAL:P3D
CALSCALE:GREGORIAN
BEGIN:VEVENT
DTSTART:20251009T220000Z
DTEND:20251010T010000Z
X-MICROSOFT-CDO-ALLDAYEVENT:FALSE
SUMMARY:Chamber Fall Fixer
DESCRIPTION:You're invited to jioin us for a night of fun and networking as we bring together multiple chamber members from the area for an exciting evening of connection and community! Mingle with follow professionals\, make new contacts\, and enjoy a relaxed atmosphere with complimentary appetizers\, pop and water. A cash bar will also be available at Grand Casino Hinckley. We look forward to seeing you there!\n\n\n\nPlease RSVP by Thursday\, September 25th with your local chamber or directly to Jessi at jschoeberl@grcasinos.com
X-ALT-DESC;FMTTYPE=text/html:You&#39\;re invited to jioin us for a night of fun and networking as we bring together multiple chamber members from the area for an exciting evening of connection and community! Mingle with follow professionals\, make new contacts\, and enjoy a relaxed atmosphere with complimentary appetizers\, pop and water. A cash bar will also be available at Grand Casino Hinckley. We look forward to seeing you there!<br />\n<br />\nPlease RSVP by Thursday\, September 25th with your local chamber or directly to Jessi at jschoeberl@grcasinos.com
LOCATION:Grand Casino Hinckely
UID:e.3575.8240
SEQUENCE:3
DTSTAMP:20260422T063737Z
URL:https://business.chisagolakeschamber.com/events/details/chamber-fall-fixer-8240
END:VEVENT

END:VCALENDAR
