BEGIN:VCALENDAR
VERSION:2.0
PRODID:-//ChamberMaster//Event Calendar 2.0//EN
METHOD:PUBLISH
X-PUBLISHED-TTL:P3D
REFRESH-INTERVAL:P3D
CALSCALE:GREGORIAN
BEGIN:VEVENT
DTSTART:20210408T163000Z
DTEND:20210408T180000Z
X-MICROSOFT-CDO-ALLDAYEVENT:FALSE
SUMMARY:Chamber Luncheon
DESCRIPTION:We're baaaack! Excited to welcome you back to our first chamber luncheon in over a year! Our April 2021 luncheon will be held at the Uncommon Loon Brewery and we are grateful to Brinks Market for catering!
X-ALT-DESC;FMTTYPE=text/html:We&#39\;re baaaack! Excited to welcome you back to our first chamber luncheon in over a year! Our April 2021 luncheon will be held at the Uncommon Loon Brewery and we are grateful to Brinks Market for catering!
LOCATION:Uncommon Loon: 10825 Lake Blvd. Chisago City\, 55013
UID:e.3575.407
SEQUENCE:3
DTSTAMP:20260423T131645Z
URL:https://business.chisagolakeschamber.com/events/details/chamber-luncheon-407
END:VEVENT

END:VCALENDAR
