BEGIN:VCALENDAR
VERSION:2.0
PRODID:-//ChamberMaster//Event Calendar 2.0//EN
METHOD:PUBLISH
X-PUBLISHED-TTL:P3D
REFRESH-INTERVAL:P3D
CALSCALE:GREGORIAN
BEGIN:VEVENT
DTSTART:20210708T163000Z
DTEND:20210708T180000Z
X-MICROSOFT-CDO-ALLDAYEVENT:FALSE
SUMMARY:Chamber Luncheon July 8\, 2021
DESCRIPTION:July 8th Chamber Luncheon\n\nSpeaker:  Lori Peterson\, Explore Minnesota!\n\n"Explore Minnesota is the official tourism office for the state of Minnesota\, providing free travel assistance\, information and inspiration for travelers."
X-ALT-DESC;FMTTYPE=text/html:July 8th Chamber Luncheon<br />\nSpeaker:&nbsp\; Lori Peterson\, Explore Minnesota!<br />\n<span style="color: rgb(34\, 34\, 34)\; font-family: Roboto\, arial\, sans-serif\; font-size: 14px\; background-color: rgb(255\, 255\, 255)\;">&quot\;Explore Minnesota is the official tourism office for the state of Minnesota\, providing free travel assistance\, information and inspiration for travelers.&quot\;</span>
LOCATION:Thank you to Panola Gardens for hosting the July Chamber Luncheon and for their continued support! Panola Gardens 26026 Olinda Trail Lindstrom\, MN 55045
UID:e.3575.823
SEQUENCE:3
DTSTAMP:20260421T104925Z
URL:https://business.chisagolakeschamber.com/events/details/chamber-luncheon-july-8-2021-823
END:VEVENT

END:VCALENDAR
