BEGIN:VCALENDAR
VERSION:2.0
PRODID:-//ChamberMaster//Event Calendar 2.0//EN
METHOD:PUBLISH
X-PUBLISHED-TTL:P3D
REFRESH-INTERVAL:P3D
CALSCALE:GREGORIAN
BEGIN:VEVENT
DTSTART:20221006T223000Z
DTEND:20221007T003000Z
X-MICROSOFT-CDO-ALLDAYEVENT:FALSE
SUMMARY:Chamber Mixer Event
DESCRIPTION:The Falls Chamber would like to invite you to a social hour and boat ride aboard the Taylors Falls Princess on Thursday\, October 6th.  The evening will begin at 5:30 pm with social time\, aboard the Princess.  The boat will leave the dock at 6 pm for a 45 minute boat ride\, returning to the dock around 6:45 pm.   There will be a cash bar available on board.\n\n \n\nThis invite is going to the Falls Chamber\, Chisago Lakes Chamber\, and the Osceola Chamber.  We are hoping to get area chambers together to network and enjoy each other's company while enjoying the fall colors on the beautiful St Croix River.
X-ALT-DESC;FMTTYPE=text/html:<span style="font-size:14px\;">The Falls Chamber would like to invite you to a social hour and boat ride aboard the Taylors Falls Princess on Thursday\, October 6th.&nbsp\; The evening will begin at 5:30 pm with social time\, aboard the Princess.&nbsp\; The boat will leave the dock at 6 pm for a 45 minute boat ride\, returning to the dock around 6:45 pm.&nbsp\; &nbsp\;There will be a cash bar available on board.<br />\n&nbsp\;<br />\nThis invite is going to the Falls Chamber\, Chisago Lakes Chamber\, and the Osceola Chamber.&nbsp\; We are hoping to get area chambers together to network and enjoy each other&#39\;s company while enjoying the fall colors on the beautiful St Croix River.&nbsp\; &nbsp\;</span>
LOCATION:Taylors Falls Scenic Boat Tours 220 South Street Taylors Falls\, MN 55084
UID:e.3575.5104
SEQUENCE:3
DTSTAMP:20260422T215123Z
URL:https://business.chisagolakeschamber.com/events/details/chamber-mixer-event-5104
END:VEVENT

END:VCALENDAR
