BEGIN:VCALENDAR
VERSION:2.0
PRODID:-//ChamberMaster//Event Calendar 2.0//EN
METHOD:PUBLISH
X-PUBLISHED-TTL:P3D
REFRESH-INTERVAL:P3D
CALSCALE:GREGORIAN
BEGIN:VEVENT
DTSTART:20201025T003000Z
DTEND:20201025T023000Z
X-MICROSOFT-CDO-ALLDAYEVENT:FALSE
SUMMARY:Chisago City Falloween Drive-In Movie
DESCRIPTION:THE DRIVE-IN MOVIE HAS BEEN CANCELED DUE TO WEATHER! WATCH OUR FACEBOOK AND WEBSITE FOR EVENT UPDATES. \n\nChisago City Falloween Drive-In Movie presents Hocus Pocus!!! Because of Covid-19 restrictions we are not able to host Falloween this year at Ojiketa Regional Park. So instead the Parks Department will be hosting a Halloween themed Drive-In movie night! The movie will begin at 7:30pm. Parking begins at 6pm. In order to be let into the movie you will need to reserve a spot for your vehicle. The park only has space enough for 60 vehicles. To reserve your free spot please follow THIS LINK and sign up.\n\n \n\nPlease see guidelines below before attending our Drive-In Movie:\n\n\n	You must watch the movie from inside your vehicle.\n	Only one person per car can go to concessions at any given time. Do not send multiple people from a single car to concessions at the same time.\n	Maintain social distancing of at least 6 feet.\n	Wash hands often\, if soap and water are not readily available then please use hand sanitizer.\n	Anyone with symptoms consistent with Covid-19 should stay home.\n	Everyone is strongly urged to wear a face covering when in public.\n	YOU MUST SIGN UP IN ORDER TO BE ADMITTED INTO THE PARK!
X-ALT-DESC;FMTTYPE=text/html:<p style="margin: 0px\; padding: 0px\; color: rgb(102\, 102\, 102)\; font-family: Roboto\, &quot\;Lucida Grande&quot\;\, arial\, sans-serif\; font-size: 14px\; text-align: justify\;"><b style="color: rgb(102\, 102\, 102)\; font-family: Roboto\, &quot\;Lucida Grande&quot\;\, arial\, sans-serif\; font-size: 14px\; text-align: justify\;">THE DRIVE-IN MOVIE&nbsp\;HAS BEEN CANCELED DUE TO WEATHER! WATCH OUR FACEBOOK AND WEBSITE FOR EVENT UPDATES.&nbsp\;</b><br />\nChisago City Falloween Drive-In Movie presents Hocus Pocus!!! Because of Covid-19 restrictions we are not able to host Falloween this year at Ojiketa Regional Park. So instead the Parks Department will be hosting a Halloween themed Drive-In movie night! The movie will begin at 7:30pm. Parking begins at 6pm. In order to be let into the movie you will need to reserve a spot for your vehicle. The park only has space enough for 60 vehicles. To reserve your free spot please follow&nbsp\;<a data-id="l-8441344947" href="https://www.signupgenius.com/go/5080f4ba4aa28a2f58-falloween?fbclid=IwAR3fNizAqtmXHH_6BeiB3xcMUnYMrzIO9qbNzAnom9ZNAWHmkwHi7RAHsA8" rel="nofollow" style="cursor: pointer\; color: rgb(28\, 110\, 152)\;" target="_blank">THIS LINK</a>&nbsp\;and sign up.</p>\n\n<p style="margin: 0px\; padding: 0px\; color: rgb(102\, 102\, 102)\; font-family: Roboto\, &quot\;Lucida Grande&quot\;\, arial\, sans-serif\; font-size: 14px\;">&nbsp\;</p>\n\n<p style="margin: 0px\; padding: 0px\; color: rgb(102\, 102\, 102)\; font-family: Roboto\, &quot\;Lucida Grande&quot\;\, arial\, sans-serif\; font-size: 14px\;">Please see guidelines below before attending our Drive-In Movie:</p>\n\n<ul style="margin: 0px\; padding-right: 0px\; padding-left: 30px\; color: rgb(102\, 102\, 102)\; font-family: Roboto\, &quot\;Lucida Grande&quot\;\, arial\, sans-serif\; font-size: 14px\;">\n	<li style="margin: 0px\; padding: 0px\; list-style: disc\;">You must watch the movie from inside your vehicle.</li>\n	<li style="margin: 0px\; padding: 0px\; list-style: disc\;">Only one person per car can go to concessions at any given time. Do not send multiple people from a single car to concessions at the same time.</li>\n	<li style="margin: 0px\; padding: 0px\; list-style: disc\;">Maintain social distancing of at least 6 feet.</li>\n	<li style="margin: 0px\; padding: 0px\; list-style: disc\;">Wash hands often\, if soap and water are not readily available then please use hand sanitizer.</li>\n	<li style="margin: 0px\; padding: 0px\; list-style: disc\;">Anyone with symptoms consistent with Covid-19 should stay home.</li>\n	<li style="margin: 0px\; padding: 0px\; list-style: disc\;">Everyone is strongly urged to wear a face covering when in public.</li>\n	<li style="margin: 0px\; padding: 0px\; list-style: disc\;">YOU MUST SIGN UP IN ORDER TO BE ADMITTED INTO THE PARK!</li>\n</ul>\n
LOCATION:Ojiketa Wilderness Park 27500 Kirby Ave\, Chisago City
UID:e.3575.316
SEQUENCE:3
DTSTAMP:20260422T100718Z
URL:https://business.chisagolakeschamber.com/events/details/chisago-city-falloween-drive-in-movie-316
END:VEVENT

END:VCALENDAR
