BEGIN:VCALENDAR
VERSION:2.0
PRODID:-//ChamberMaster//Event Calendar 2.0//EN
METHOD:PUBLISH
X-PUBLISHED-TTL:P3D
REFRESH-INTERVAL:P3D
CALSCALE:GREGORIAN
BEGIN:VEVENT
DTSTART:20201031T000000Z
DTEND:20201031T020000Z
X-MICROSOFT-CDO-ALLDAYEVENT:FALSE
SUMMARY:Chisago City Ojiketa Haunted Drive
DESCRIPTION:Completely contactless drive-thru Halloween experience at Ojiketa Regional Park. With the COVID-19 pandemic and related health guidelines in place the parks department is not able to bring you Ojiketa haunt this year. That's why we will host a socially distant Halloween drive-thru event.\n\nThe experience\, which is being created by Chisago City Parks Department and our frightfully amazing volunteers will help deliver the chills and thrills of a typical haunted house experience from the safety of your vehicle. All props will be stationary. Free Admission!
X-ALT-DESC;FMTTYPE=text/html:<p style="margin: 0px\; padding: 0px\; color: rgb(102\, 102\, 102)\; font-family: Roboto\, &quot\;Lucida Grande&quot\;\, arial\, sans-serif\; font-size: 14px\; text-align: justify\;">Completely contactless drive-thru Halloween experience at Ojiketa Regional Park. With the COVID-19 pandemic and related health guidelines in place the parks department is not able to bring you Ojiketa haunt this year. That&#39\;s why we will host a socially distant Halloween drive-thru event.</p>\n\n<p style="margin: 0px\; padding: 0px\; color: rgb(102\, 102\, 102)\; font-family: Roboto\, &quot\;Lucida Grande&quot\;\, arial\, sans-serif\; font-size: 14px\; text-align: justify\;">The experience\, which is being created by Chisago City Parks Department and our frightfully amazing volunteers will help deliver the chills and thrills of a typical haunted house experience from the safety of your vehicle. All props will be stationary. Free Admission!</p>\n
LOCATION:Ojiketa Wilderness Park 27500 Kirby Ave\, Chisago City
UID:e.3575.315
SEQUENCE:3
DTSTAMP:20260420T180825Z
URL:https://business.chisagolakeschamber.com/events/details/chisago-city-ojiketa-haunted-drive-315
END:VEVENT

END:VCALENDAR
