BEGIN:VCALENDAR
VERSION:2.0
PRODID:-//ChamberMaster//Event Calendar 2.0//EN
METHOD:PUBLISH
X-PUBLISHED-TTL:P3D
REFRESH-INTERVAL:P3D
CALSCALE:GREGORIAN
BEGIN:VEVENT
DTSTART:20221204T223000Z
DTEND:20221205T000000Z
X-MICROSOFT-CDO-ALLDAYEVENT:FALSE
SUMMARY:Chisago City's Lighting Festival
DESCRIPTION:Chisago City presents Lighting Festival 2022! Horse carriage rides\, hot cocoa\, cookies\, petting zoo\, food & toy collection.
X-ALT-DESC;FMTTYPE=text/html:<span style="color: rgb(102\, 102\, 102)\; font-family: Roboto\, &quot\;Lucida Grande&quot\;\, arial\, sans-serif\; font-size: 14px\; text-align: justify\;">Chisago City presents Lighting Festival 2022! Horse carriage rides\, hot cocoa\, cookies\, petting zoo\, food &amp\; toy collection.&nbsp\;</span>
LOCATION:Moberg Park 10656 Railroad Ave Chisago City\, MN 55013
UID:e.3575.337
SEQUENCE:3
DTSTAMP:20260422T190740Z
URL:https://business.chisagolakeschamber.com/events/details/chisago-city-s-lighting-festival-337
END:VEVENT

END:VCALENDAR
