BEGIN:VCALENDAR
VERSION:2.0
PRODID:-//ChamberMaster//Event Calendar 2.0//EN
METHOD:PUBLISH
X-PUBLISHED-TTL:P3D
REFRESH-INTERVAL:P3D
CALSCALE:GREGORIAN
BEGIN:VEVENT
DTSTART:20221013T140000Z
DTEND:20221013T190000Z
X-MICROSOFT-CDO-ALLDAYEVENT:FALSE
SUMMARY:Chisago County Career Exploration in Manufacturing Event
DESCRIPTION:Chisago County Career Exploration in Manufacturing Event \n\n\n\nTo celebrate Manufacturers Month and acknowledge all that manufacturing companies contribute to the economy\, various representatives throughout the county are coordinating an event for manufacturers to meet students from four school districts within the county. Representatives include: the Chisago County HRA-EDA\, Chisago Lakes   North Branch   Rush City & Forest Lake schools districts\, local businesses\, city officials\, and workforce agents.\n\nThe event is called "Career Exploration in Manufacturing." This event will be held at Splitrocks Entertainment Center in Wyoming. Over 200 high school students will be met inside the facility by manufacturing companies from throughout the county and encouraged to visit with them about career options in manufacturing.\n\nWe would like to offer your business a space at this event and to take advantage of this event to promote your employment opportunities and required skills to students to consider manufacturing as an excellent option for a career. For a small fee of $25 (nonrefundable)\, you will be provided a 6' table and two chairs. Electricity is available on request.\n\n\n\n\n\nPlease note that we are encouraging student engagement and interaction as a part of the event so be thinking of what you can provide as an interactive conversation piece.\n\nWe encourage the participating businesses to bring a hands-on career exploration activity to engage and interact with students at the event. Examples of hands-on exploration would be: An interactive activity\, build/create a take-away item\, a game\, an object that demonstrates potential tasks or duties of position\, a quiz or trivia related to your business\, final product displays and the process of how they came to be or live demonstrations of machines or processes.
X-ALT-DESC;FMTTYPE=text/html:<p><span style="font-size:14px\;"><span style="font-family:arial\;"><strong>Chisago County Career Exploration in Manufacturing Event</strong>&nbsp\;</span></span></p>\n\n<div class="eds-l-mar-vert-6 eds-l-sm-mar-vert-4 eds-text-bm structured-content-rich-text" style="margin: 24px 0px\; padding: 0px\; text-rendering: optimizelegibility\; font-size: 14px\; line-height: 1.25rem\; box-sizing: border-box\; color: rgb(57\, 54\, 79)\; font-family: &quot\;Neue Plak&quot\;\, -apple-system\, BlinkMacSystemFont\, Roboto\, &quot\;Helvetica Neue&quot\;\, Helvetica\, Tahoma\, Arial\, sans-serif\;">\n<div class="eds-text--left" style="margin: 0px\; padding: 0px\; box-sizing: border-box\;">\n<p style="margin: 0px\; padding: 0px\; box-sizing: border-box\; color: rgb(111\, 114\, 135)\; font-size: 16px\; line-height: 1.5rem\;"><span style="font-size:14px\;"><span style="font-family:arial\;">To celebrate Manufacturers Month and acknowledge all that manufacturing companies contribute to the economy\, various representatives throughout the county are coordinating an event for manufacturers to meet students from four school districts within the county. Representatives include: the Chisago County HRA-EDA\, Chisago Lakes &ndash\; North Branch &ndash\; Rush City &amp\; Forest Lake schools districts\, local businesses\, city officials\, and workforce agents.</span></span></p>\n\n<p style="margin: 0px\; padding: 10px 0px 0px\; box-sizing: border-box\; color: rgb(111\, 114\, 135)\; font-size: 16px\; line-height: 1.5rem\;"><span style="font-family: arial\; font-size: 14px\;">The event is called &ldquo\;Career Exploration in Manufacturing.&rdquo\; This event will be held at Splitrocks Entertainment Center in Wyoming. Over 200 high school students will be met inside the facility by manufacturing companies from throughout the county and encouraged to visit with them about career options in manufacturing.</span></p>\n\n<p style="margin: 0px\; padding: 10px 0px 0px\; box-sizing: border-box\; color: rgb(111\, 114\, 135)\; font-size: 16px\; line-height: 1.5rem\;"><span style="font-family: arial\; font-size: 14px\;">We would like to offer your business a space at this event and to take advantage of this event to promote your employment opportunities and required skills to students to consider manufacturing as an excellent option for a career. For a small fee of $25 (nonrefundable)\, you will be provided a 6&#39\; table and two chairs. Electricity is available on request.</span></p>\n</div>\n</div>\n\n<div class="eds-l-mar-vert-6 eds-l-sm-mar-vert-4 eds-text-bm structured-content-rich-text" style="margin: 24px 0px\; padding: 0px\; text-rendering: optimizelegibility\; font-size: 14px\; line-height: 1.25rem\; box-sizing: border-box\; color: rgb(57\, 54\, 79)\; font-family: &quot\;Neue Plak&quot\;\, -apple-system\, BlinkMacSystemFont\, Roboto\, &quot\;Helvetica Neue&quot\;\, Helvetica\, Tahoma\, Arial\, sans-serif\;">\n<div class="eds-text--left" style="margin: 0px\; padding: 0px\; box-sizing: border-box\;">\n<p style="margin: 0px\; padding: 0px\; box-sizing: border-box\; color: rgb(111\, 114\, 135)\; font-size: 16px\; line-height: 1.5rem\;"><span style="font-size:14px\;"><span style="font-family:arial\;"><span style="font-weight: 700\; box-sizing: border-box\; padding-top: 0px\;">Please note that we are encouraging student engagement and interaction as a part of the event so be thinking of what you can provide as an interactive conversation piece.</span></span></span></p>\n\n<p style="margin: 0px\; padding: 10px 0px 0px\; box-sizing: border-box\; color: rgb(111\, 114\, 135)\; font-size: 16px\; line-height: 1.5rem\;"><span style="font-size:14px\;"><span style="font-family:arial\;">We encourage the participating businesses to bring a hands-on career exploration activity to engage and interact with students at the event. Examples of hands-on exploration would be: An interactive activity\, build/create a take-away item\, a game\, an object that demonstrates potential tasks or duties of position\, a quiz or trivia related to your business\, final product displays and the process of how they came to be or live demonstrations of machines or processes.</span></span></p>\n</div>\n</div>\n
LOCATION:Splitrocks Entertainment Center 5063 273rd Street Wyoming\, MN 55092
UID:e.3575.5107
SEQUENCE:3
DTSTAMP:20260422T215535Z
URL:https://business.chisagolakeschamber.com/events/details/chisago-county-career-exploration-in-manufacturing-event-5107
END:VEVENT

END:VCALENDAR
