BEGIN:VCALENDAR
VERSION:2.0
PRODID:-//ChamberMaster//Event Calendar 2.0//EN
METHOD:PUBLISH
X-PUBLISHED-TTL:P3D
REFRESH-INTERVAL:P3D
CALSCALE:GREGORIAN
BEGIN:VEVENT
DTSTART:20221020T160000Z
DTEND:20221020T190000Z
X-MICROSOFT-CDO-ALLDAYEVENT:FALSE
SUMMARY:Chisago County Operation Community Connect
DESCRIPTION:"Connecting People To Service They Need" - This is a one-day community event designed to help community members receive needed services.\n\n	Lunch provided\n	Multiple resource vendors\n	Hair cuts\n	Kids corner\n	Shoe bus ($2 kids/$5 adults)\n	Coats\, Gloves\, Hats & Socks\n	Prize Giveaways\n\n*While supplies last*
X-ALT-DESC;FMTTYPE=text/html:<span style="font-size:16px\;"><span style="font-family:arial\;">&quot\;Connecting People To Service They Need&quot\; -&nbsp\;<span style="color: rgb(5\, 5\, 5)\; white-space: pre-wrap\;">This is a one-day community event designed to help community members receive needed services.</span></span></span>\n<ul>\n	<li>Lunch provided</li>\n	<li>Multiple resource vendors</li>\n	<li>Hair cuts</li>\n	<li>Kids corner</li>\n	<li>Shoe bus ($2 kids/$5 adults)</li>\n	<li>Coats\, Gloves\, Hats &amp\; Socks</li>\n	<li>Prize Giveaways</li>\n</ul>\n*While supplies last*
LOCATION:Chisago Lakes Lutheran Church 1 Summit Ave Center City\, MN 55012 Contact Arrowhead Transit for transportation to and from event by calling 800-862-0175\, Option 13
UID:e.3575.5102
SEQUENCE:3
DTSTAMP:20260422T215123Z
URL:https://business.chisagolakeschamber.com/events/details/chisago-county-operation-community-connect-5102
END:VEVENT

END:VCALENDAR
