BEGIN:VCALENDAR
VERSION:2.0
PRODID:-//ChamberMaster//Event Calendar 2.0//EN
METHOD:PUBLISH
X-PUBLISHED-TTL:P3D
REFRESH-INTERVAL:P3D
CALSCALE:GREGORIAN
BEGIN:VEVENT
DTSTART:20200213T173000Z
DTEND:20200213T190000Z
X-MICROSOFT-CDO-ALLDAYEVENT:FALSE
SUMMARY:Chisago Lakes Chamber Luncheon
DESCRIPTION:Topic: This will be a 'Networking Luncheon' so get your elevator speech ready and bring lots of business cards to share.\n\nLocation: Chisago Lakes Golf Course 12975 292nd St\, Lindstrom\n\nCost: $10/chamber member\, $15/non chamber member\nPlease RSVP No Later than Monday\, February 10th 5:00pm to this event RSVP\, 651-257-1177 or info@chisagolakeschamber.com
X-ALT-DESC;FMTTYPE=text/html:<p style="margin: 0px\; padding: 0px\; color: rgb(94\, 94\, 94)\; font-family: Roboto\, &quot\;Lucida Grande&quot\;\, arial\, sans-serif\; font-size: 15px\;"><em style="font-weight: inherit\;">Topic</em>: This will be a &#39\;<em style="font-weight: inherit\;">Networking Luncheon&#39\;&nbsp\;</em>so get your elevator speech ready and bring lots of business cards to share.</p>\n\n<p style="margin: 0px\; padding: 0px\; color: rgb(94\, 94\, 94)\; font-family: Roboto\, &quot\;Lucida Grande&quot\;\, arial\, sans-serif\; font-size: 15px\;"><em style="font-weight: inherit\;">Location</em><em style="font-weight: inherit\;">:&nbsp\;</em><span style="font-style: inherit\; font-weight: 700\;">Chisago Lakes Golf Course&nbsp\;</span>12975 292nd St\, Lindstrom</p>\n\n<p style="margin: 0px\; padding: 0px\; color: rgb(94\, 94\, 94)\; font-family: Roboto\, &quot\;Lucida Grande&quot\;\, arial\, sans-serif\; font-size: 15px\;"><em style="font-weight: inherit\;">Cost</em>:&nbsp\;<span style="font-style: inherit\; font-weight: 700\;">$10/chamber member\, $15/non chamber member</span></p>\n<span style="color: rgb(94\, 94\, 94)\; font-family: Roboto\, &quot\;Lucida Grande&quot\;\, arial\, sans-serif\; font-size: 15px\;">Please RSVP&nbsp\;</span><span style="font-weight: 700\; color: rgb(94\, 94\, 94)\; font-family: Roboto\, &quot\;Lucida Grande&quot\;\, arial\, sans-serif\; font-size: 15px\;">No Later than Monday\, February 10th 5:00pm</span><span style="color: rgb(94\, 94\, 94)\; font-family: Roboto\, &quot\;Lucida Grande&quot\;\, arial\, sans-serif\; font-size: 15px\;">&nbsp\;to this event RSVP\, 651-257-1177 or&nbsp\;</span><a data-id="l-7721793983" href="mailto:info@chisagolakeschamber.com" rel="nofollow" style="cursor: pointer\; font-family: Roboto\, &quot\;Lucida Grande&quot\;\, arial\, sans-serif\; font-size: 15px\;" target="_blank">info@chisagolakeschamber.com</a>
LOCATION:Chisago Lakes Grill 12975 292nd Street Lindstrom\, MN 55045
UID:e.3575.174
SEQUENCE:3
DTSTAMP:20260424T150226Z
URL:https://business.chisagolakeschamber.com/events/details/chisago-lakes-chamber-luncheon-174
END:VEVENT

END:VCALENDAR
