BEGIN:VCALENDAR
VERSION:2.0
PRODID:-//ChamberMaster//Event Calendar 2.0//EN
METHOD:PUBLISH
X-PUBLISHED-TTL:P3D
REFRESH-INTERVAL:P3D
CALSCALE:GREGORIAN
BEGIN:VEVENT
DTSTART;VALUE=DATE:20221124
DTEND;VALUE=DATE:20221125
TRANSP:TRANSPARENT
X-MICROSOFT-CDO-ALLDAYEVENT:TRUE
SUMMARY:Chisago Lakes Community Thanksgiving Dinner
DESCRIPTION:Chisago Lakes Community Thanksgiving Dinner "Pick Up & In House"\n\n*A traditional Thanksgiving Dinner will be available FREE to anyone.\n\n\n\nFor Volunteer Opportunities contact Chris at 612-810-6770.
X-ALT-DESC;FMTTYPE=text/html:Chisago Lakes Community Thanksgiving Dinner &quot\;Pick Up &amp\; In House&quot\;<br />\n*A traditional Thanksgiving Dinner will be available FREE to anyone.<br />\n<br />\nFor Volunteer Opportunities contact Chris at 612-810-6770.
LOCATION:Chisago Lake Lutheran Church 1 Summit Avenue Center City\, MN 55012
UID:e.3575.5338
SEQUENCE:3
DTSTAMP:20260422T232256Z
URL:https://business.chisagolakeschamber.com/events/details/chisago-lakes-community-thanksgiving-dinner-5338
END:VEVENT

END:VCALENDAR
