BEGIN:VCALENDAR
VERSION:2.0
PRODID:-//ChamberMaster//Event Calendar 2.0//EN
METHOD:PUBLISH
X-PUBLISHED-TTL:P3D
REFRESH-INTERVAL:P3D
CALSCALE:GREGORIAN
BEGIN:VEVENT
DTSTART:20200113T233000Z
DTEND:20200114T030000Z
X-MICROSOFT-CDO-ALLDAYEVENT:FALSE
SUMMARY:Chisago Lakes District Spelling Bee
DESCRIPTION:5th-8th graders will compete for the District title and qualify for their opportunity at winning State and possibly Nationals! More Information
X-ALT-DESC;FMTTYPE=text/html:<span style="color:#5E5E5E\;"><span style="font-family:arial\,sans-serif\;"><span style="font-size:11.5pt\;">5th-8th graders will compete for the District title and qualify for their opportunity at winning State&hellip\;and possibly Nationals!&nbsp\;<a href="https://www.isd2144.org/Page/1380#calendar2376/20200117/event/29331" target="_blank"><span style="color:#1C6E98\;">More Information</span></a></span></span></span>
LOCATION:
UID:e.3575.13
SEQUENCE:3
DTSTAMP:20260424T162547Z
URL:https://business.chisagolakeschamber.com/events/details/chisago-lakes-district-spelling-bee-13
END:VEVENT

END:VCALENDAR
