BEGIN:VCALENDAR
VERSION:2.0
PRODID:-//ChamberMaster//Event Calendar 2.0//EN
METHOD:PUBLISH
X-PUBLISHED-TTL:P3D
REFRESH-INTERVAL:P3D
CALSCALE:GREGORIAN
BEGIN:VEVENT
DTSTART;VALUE=DATE:20200229
DTEND;VALUE=DATE:20200302
TRANSP:TRANSPARENT
X-MICROSOFT-CDO-ALLDAYEVENT:TRUE
SUMMARY:Chisago Lakes Home & Business Expo
DESCRIPTION:Get ready for the best Home & Business Expo yet! The 2025 Expo brings a new location\, exciting new vendors\, live entertainment\, and a new affordable rate. Secure your 10x10 booth for just $150 and be part of this premier community showcase. Register today to reserve your spot!
X-ALT-DESC;FMTTYPE=text/html:Get ready for the best Home &amp\; Business Expo yet! The 2025 Expo brings a new location\, exciting new vendors\, live entertainment\, and a new affordable rate. Secure your 10x10 booth for just $150 and be part of this premier community showcase. Register today to reserve your spot!
LOCATION:Chisago Lakes Community Center 29330 Olinda Trail\, Lindstrom
UID:e.3575.7
SEQUENCE:3
DTSTAMP:20260424T150324Z
URL:https://business.chisagolakeschamber.com/events/details/chisago-lakes-home-business-expo-7
END:VEVENT

END:VCALENDAR
